BEGIN:VCALENDAR
VERSION:2.0
PRODID:-//CE By Design - ECPv6.15.20//NONSGML v1.0//EN
CALSCALE:GREGORIAN
METHOD:PUBLISH
X-ORIGINAL-URL:https://cebydesign.com
X-WR-CALDESC:Events for CE By Design
REFRESH-INTERVAL;VALUE=DURATION:PT1H
X-Robots-Tag:noindex
X-PUBLISHED-TTL:PT1H
BEGIN:VTIMEZONE
TZID:America/New_York
BEGIN:DAYLIGHT
TZOFFSETFROM:-0500
TZOFFSETTO:-0400
TZNAME:EDT
DTSTART:20250309T070000
END:DAYLIGHT
BEGIN:STANDARD
TZOFFSETFROM:-0400
TZOFFSETTO:-0500
TZNAME:EST
DTSTART:20251102T060000
END:STANDARD
BEGIN:DAYLIGHT
TZOFFSETFROM:-0500
TZOFFSETTO:-0400
TZNAME:EDT
DTSTART:20260308T070000
END:DAYLIGHT
BEGIN:STANDARD
TZOFFSETFROM:-0400
TZOFFSETTO:-0500
TZNAME:EST
DTSTART:20261101T060000
END:STANDARD
BEGIN:DAYLIGHT
TZOFFSETFROM:-0500
TZOFFSETTO:-0400
TZNAME:EDT
DTSTART:20270314T070000
END:DAYLIGHT
BEGIN:STANDARD
TZOFFSETFROM:-0400
TZOFFSETTO:-0500
TZNAME:EST
DTSTART:20271107T060000
END:STANDARD
END:VTIMEZONE
BEGIN:VTIMEZONE
TZID:America/Denver
BEGIN:DAYLIGHT
TZOFFSETFROM:-0700
TZOFFSETTO:-0600
TZNAME:MDT
DTSTART:20250309T090000
END:DAYLIGHT
BEGIN:STANDARD
TZOFFSETFROM:-0600
TZOFFSETTO:-0700
TZNAME:MST
DTSTART:20251102T080000
END:STANDARD
BEGIN:DAYLIGHT
TZOFFSETFROM:-0700
TZOFFSETTO:-0600
TZNAME:MDT
DTSTART:20260308T090000
END:DAYLIGHT
BEGIN:STANDARD
TZOFFSETFROM:-0600
TZOFFSETTO:-0700
TZNAME:MST
DTSTART:20261101T080000
END:STANDARD
BEGIN:DAYLIGHT
TZOFFSETFROM:-0700
TZOFFSETTO:-0600
TZNAME:MDT
DTSTART:20270314T090000
END:DAYLIGHT
BEGIN:STANDARD
TZOFFSETFROM:-0600
TZOFFSETTO:-0700
TZNAME:MST
DTSTART:20271107T080000
END:STANDARD
END:VTIMEZONE
BEGIN:VEVENT
DTSTART;TZID=America/New_York:20260609T090000
DTEND;TZID=America/New_York:20260609T120000
DTSTAMP:20260425T195641
CREATED:20260425T142954Z
LAST-MODIFIED:20260425T142954Z
UID:10001244-1780995600-1781006400@cebydesign.com
SUMMARY:Medicare Basics
DESCRIPTION:Tuesday\,  June 9\, 2026; 9:00 – 12:00 p.m. | US/Mountain\nMedicare Basics is CE approved for THREE credits\, CO L\, A&H / IA General CE Classroom credits. This course covers the history of Medicare\, the parts of Medicare (A & B)\, Supplements\, Advantage Plans (Part C)\, Drug Plans (Part D)\, and Medicaid basics. Learn about open enrollment\, underwriting\, and opportunities for plan changes. \nTuition: $14.00 per CE credit\nIowa – $1.50 per CE credit for filing fees added at check out \nColorado Course# 49616 – Mountain:  9:00 – 12:00\nIowa Course# 80610 – Central:  10:00 – 1:00 \nYou will receive the link to join the webinar sent to the email on the order before the event. \nAdd to Cart
URL:https://cebydesign.com/event/medicare-basics-29/
END:VEVENT
BEGIN:VEVENT
DTSTART;TZID=America/New_York:20260610T090000
DTEND;TZID=America/New_York:20260610T130000
DTSTAMP:20260425T195641
CREATED:20260308T163249Z
LAST-MODIFIED:20260424T113330Z
UID:10001199-1781082000-1781096400@cebydesign.com
SUMMARY:CGL\, Occurrence vs Claims Made Policies
DESCRIPTION:Wednesday\, June 10\, 2026; 9:00 – 1:00 p.m. | US / Mountain\nCGL OCCURRENCE VS CLAIMS MADE POLICIES is CE approved for Four credits. The course qualifies for 2hr. Colorado one-time Claims Made Requirement\, P&C; Iowa General CE credits. The two-policy forms are covered including Coverages A-C\, D&O plus additional endorsements and forms. \nTuition: $14.00 per CE credit\nIowa – $1.50 per CE credit for filing fees added at check out \nColorado Course #41411 – Mountain: 9:00 – 1:00\n(Required one time in CO to sell Claims Made form)\nIowa Course # 81738 – Central: 10:00 – 2:00 \nYou will receive the link to join the webinar sent to the email on the order before the event. \nAdd to Cart
URL:https://cebydesign.com/event/cgl-occurrence-vs-claims-made-policies-9/
END:VEVENT
BEGIN:VEVENT
DTSTART;TZID=America/New_York:20260611T110000
DTEND;TZID=America/New_York:20260611T140000
DTSTAMP:20260425T195641
CREATED:20260422T115845Z
LAST-MODIFIED:20260422T115845Z
UID:10001231-1781175600-1781186400@cebydesign.com
SUMMARY:Ethical Standards for Professionalism
DESCRIPTION:Thursday\, June 11\, 2026; 11:00 – 2:00 p.m. | US/Mountain\nEthical Standards for Professionalism is CE approved for THREE state required ETHICS credits in Colorado and Iowa (classroom credits). The positive side of ethics in our industry is discussed. \nTuition: $14.00 per CE credit\nIowa – $1.50 per CE credit for filing fees added at check out \nColorado Course #43080 and 19431- Mountain:  11:00 – 2:00\nWe have two course numbers for this course so your credits will count.\nIowa Course #76299 – Central:  12:00 – 3:00 \nYou will receive the link to join the webinar sent to the email on the order before the event. \nAdd to Cart
URL:https://cebydesign.com/event/ethical-standards-for-professionalism-34/
END:VEVENT
BEGIN:VEVENT
DTSTART;TZID=America/New_York:20260612T090000
DTEND;TZID=America/New_York:20260612T140000
DTSTAMP:20260425T195641
CREATED:20260425T143900Z
LAST-MODIFIED:20260425T143900Z
UID:10001245-1781254800-1781272800@cebydesign.com
SUMMARY:Insurance for Life
DESCRIPTION:Friday\, June 12\, 2026; 9:00am – 2:00pm | US/Mountain\nInsurance for Life is CE approved for FIVE credits: CO L\, A&H / IA General Classroom credits. This course covers all types of life policies\, both individual and group. We cover the history of products\, people who lost family members without life insurance\, Key Person coverage\, Buy Sell Agreements\, the Life Happens Foundation\, videos and more. \nTuition: $14.00 per CE credit\nIowa – $1.50 per CE credit for filing fees added at check out \nColorado Course #49619 – Mountain:  9:00 – 2:00\nIowa Course #80586 – Central:  10:00 – 3:00 \nYou will receive the link to join the webinar sent to the email on the order before the event. \nAdd to Cart
URL:https://cebydesign.com/event/insurance-for-life-33/
END:VEVENT
BEGIN:VEVENT
DTSTART;TZID=America/New_York:20260615T090000
DTEND;TZID=America/New_York:20260615T130000
DTSTAMP:20260425T195641
CREATED:20260422T125424Z
LAST-MODIFIED:20260422T125424Z
UID:10001233-1781514000-1781528400@cebydesign.com
SUMMARY:Fixed (Equity) Index Annuities
DESCRIPTION:Monday\, June 15\, 2026; 9:00 a.m. – 1:00 p.m. | US/Mountain\nFixed (Equity) Index Annuities is CE approved for FOUR credits\, CO L\, A&H and IA General Classroom CE credits. \nThe course covers both the history of the Index Annuity form and Index Life Insurance. Details with key features of the complex product are covered with many examples to share with prospects and clients. \nTuition: $14.00 per CE credit\nIowa – $1.50 per CE credit for filing fees added at check out \nColorado Course #41413 – Mountain:  9:00 – 1:00\nIowa Course #80787 – Central:  10:00 – 2:00 \nYou will receive the link to join the webinar sent to the email on the order before the event. \nAdd to Cart
URL:https://cebydesign.com/event/fixed-equity-index-annuities-29/
END:VEVENT
BEGIN:VEVENT
DTSTART;TZID=America/New_York:20260616T090000
DTEND;TZID=America/New_York:20260616T120000
DTSTAMP:20260425T195641
CREATED:20260425T145559Z
LAST-MODIFIED:20260425T145559Z
UID:10001246-1781600400-1781611200@cebydesign.com
SUMMARY:Clients With Disabled Loved Ones
DESCRIPTION:Tuesday\, June 16\, 2026; 9:00 a.m. – 12:00 p.m. MT | US/Mountain\nClients With Disabled Loved Ones is CE approved for THREE credits\, CO L\, A&H / Iowa General CE Classroom credits. The course covers requirements for disabled special needs loved ones and setting up planning\, so they retain their federal benefits. Trust planning is covered. This is a market underserved\, and you’ll take away the requirements and ideas needed to work in this market. \nTuition: $14.00 per CE credit\nIowa – $1.50 per CE credit for filing fees added at check out \nColorado Course #58548 – Mountain: 9:00 – 12:00\nIowa Course #101993 – Central: 10:00- 1:00 \nYou will receive the link to join the webinar sent to the email on the order before the event. \nAdd to Cart
URL:https://cebydesign.com/event/clients-with-disabled-loved-ones-33/
END:VEVENT
BEGIN:VEVENT
DTSTART;TZID=America/New_York:20260617T110000
DTEND;TZID=America/New_York:20260617T140000
DTSTAMP:20260425T195641
CREATED:20260422T124550Z
LAST-MODIFIED:20260422T124550Z
UID:10001232-1781694000-1781704800@cebydesign.com
SUMMARY:CO Homeowners Insurance Reform (HB13-1225)
DESCRIPTION:Wednesday\, June 17\, 2026; 11:00 – 2:00 p.m. | US/Mountain\nThis course curriculum covers the new legislation requiring insurers to change for format of HO insurance by Jan 1\, 2015\, and meets the 3 CE credit requirement for any Colorado producer selling Homeowners insurance\, based on HB13-1225. We cover Google maps of current files\, clearing and mitigating property\, grant funds available\, CSU and the Forest Service partnership for citizens. Fair Plan Colorado info and Fortified Roofing is also included. \nTuition: $14.00 per CE credit \nColorado Course #53455 and 58972 – Mountain: 11:00 – 2:00\nWe will be sure you have the correct course number so the course will count. \nYou will receive the link to join the webinar sent to the email on the order before the event. \nAdd to Cart
URL:https://cebydesign.com/event/co-homeowners-insurance-reform-hb13-1225-32/
END:VEVENT
BEGIN:VEVENT
DTSTART;TZID=America/New_York:20260618T100000
DTEND;TZID=America/New_York:20260618T130000
DTSTAMP:20260425T195641
CREATED:20260423T225406Z
LAST-MODIFIED:20260423T225406Z
UID:10001235-1781776800-1781787600@cebydesign.com
SUMMARY:Required Minimum Distributions
DESCRIPTION:Thursday\, June 18\, 2026; 10:00 – 1:00 pm | US/Mountain\nThis course is CE approved for Three Life\, A&H credits in CO\, and General CE credits in Iowa. The content includes RMD rules\, tables for contributions\, IRS guidelines with new extensions included\, Secure Act changes and Qualified Longevity Annuities – QLAC. \nTuition: $14.00 per CE credit\nIowa – $1.50 per CE credit for filing fees added at check out \nColorado Course #54436\, Mountain:  10:00 – 1:00\nIowa Course #84997\, Central:  11:00 – 2:00 \nYou will receive the link to join the webinar sent to the email on the order before the event. \nAdd to Cart
URL:https://cebydesign.com/event/required-minimum-distributions-30/
END:VEVENT
BEGIN:VEVENT
DTSTART;TZID=America/New_York:20260619T100000
DTEND;TZID=America/New_York:20260619T130000
DTSTAMP:20260425T195641
CREATED:20260423T230611Z
LAST-MODIFIED:20260423T230611Z
UID:10001236-1781863200-1781874000@cebydesign.com
SUMMARY:Creating A Living Legacy
DESCRIPTION:Friday\, June 19\, 2026; 10:00 – 1:00 pm | US/Mountain\nThis course is CE approved for Three Life\, A&H credits in CO\, and General CE credits in Iowa. The content covers legacy planning with Charitable Reminder Trusts\, Annuities\, Life Insurance\, Donor Advised Funds\, Foundations\, Secure Act and more… Learn more about working in this specialized market. \nTuition: $14.00 per CE credit\nIowa – $1.50 per CE credit for filing fees added at check out \nColorado Course #51074 – Mountain: 10:00 – 1:00\nIowa Course #102490 – Central: 11:00 – 2:00 \nYou will receive the link to join the webinar sent to the email on the order before the event. \nAdd to Cart
URL:https://cebydesign.com/event/creating-a-living-legacy-29/
END:VEVENT
BEGIN:VEVENT
DTSTART;TZID=America/New_York:20260622T090000
DTEND;TZID=America/New_York:20260622T120000
DTSTAMP:20260425T195641
CREATED:20260425T150604Z
LAST-MODIFIED:20260425T150604Z
UID:10001247-1782118800-1782129600@cebydesign.com
SUMMARY:Tie It All Together
DESCRIPTION:Monday\, June 22\, 2026; 9:00 a.m. – 12:00 p.m. | US/Mountain\nTie It All Together is CE approved for Three credits\, Colorado Life\, Health\, P&C; and Iowa General credits. \nCross-selling and Up-selling discussed for all lines of insurance products. Client development discussed by providing clients and prospects with a comprehensive insurance portfolio focused on their risks needs. These processes increase client loyalty and retention as your book of business is developed. Learn how implement a plan of action with goals that help with cost savings for clients. \nTuition: $14.00 per CE credit\nIowa – $1.50 per CE credit for filing fees added at check out \nColorado Course #58941 – Mountain:  9:00 – 12:00\nIowa Course #102486 – Central:  10:00 – 1:00 \nYou will receive the link to join the webinar sent to the email on the order before the event. \nAdd to Cart
URL:https://cebydesign.com/event/tie-it-all-together-13/
END:VEVENT
BEGIN:VEVENT
DTSTART;TZID=America/New_York:20260622T130000
DTEND;TZID=America/New_York:20260622T150000
DTSTAMP:20260425T195641
CREATED:20260425T151733Z
LAST-MODIFIED:20260425T151733Z
UID:10001248-1782133200-1782140400@cebydesign.com
SUMMARY:Umbrellas Cover When It Rains
DESCRIPTION:Monday\, June 22\, 2026; 1:00 – 3:00 pm | US/Mountain\nUmbrellas Cover When It Rains is CE approved for Two P&C Credits in Colorado and General Credits in Iowa. The course focuses on personal umbrellas\, when to recommend which limits\, and the policy itself. Business umbrellas are also included. \nTuition: $14.00 per CE credit\nIowa – $1.50 per CE credit for filing fees added at check out \nColorado Course #48486 – Mountain: 1:00 – 3:00 pm\nIowa Course #79480 – Central:  2:00 – 4:00 pm \nYou will receive the link to join the webinar sent to the email on the order before the event. \nAdd to Cart
URL:https://cebydesign.com/event/umbrellas-cover-when-it-rains-23/
END:VEVENT
BEGIN:VEVENT
DTSTART;TZID=America/Denver:20260623T090000
DTEND;TZID=America/Denver:20260623T140000
DTSTAMP:20260425T195641
CREATED:20260425T152559Z
LAST-MODIFIED:20260425T152559Z
UID:10001249-1782205200-1782223200@cebydesign.com
SUMMARY:Insure Your Income With Disability Insurance
DESCRIPTION:Tuesday\, June 23\, 2026; 9:00 a.m. – 2:00 p.m. | US/Mountain\nMay is National Disability Awareness Month. The course covers Social Security Disability\, applying and qualifications for all ages\, including SSDI challenges. Several programs for those on SSDI that want to be working are available\, and we cover the successes of those programs. Individual and Group Disability Income plans\, Key Person\, and Buy-Sell agreements are included. Lots of links you retain. \nTuition: $14.00 per CE credit\nIowa – $1.50 per CE credit for filing fees added at check out \nColorado Course #49618 – Mountain:  9:00 – 2:00\nIowa Course #80609 – Central:  10:00 – 3:00 \nYou will receive the link to join the webinar sent to the email on the order before the event. \nAdd to Cart
URL:https://cebydesign.com/event/insure-your-income-with-disability-insurance-30/
END:VEVENT
BEGIN:VEVENT
DTSTART;TZID=America/New_York:20260624T090000
DTEND;TZID=America/New_York:20260624T130000
DTSTAMP:20260425T195641
CREATED:20260425T153549Z
LAST-MODIFIED:20260425T153549Z
UID:10001250-1782291600-1782306000@cebydesign.com
SUMMARY:Homeowners\, Neighbors\, and Pets
DESCRIPTION:Wednesday\, June 24\, 2026; 9:00 – 1:00 p.m. | US/Mountain\nHomeowners\, Neighbors\, and Pets is CE approved for Four CE credits. Colorado P&C\, Iowa General credits. The course covers the Homeowners policy forms with ISO updates\, Fortified Roofing\, and rate increases. The discussion of neighbor’s rights\, plus pets are included. You get to share your pet pics in hour four. \nTuition: $14.00 per CE credit\nIowa – $1.50 per CE credit for filing fees added at check out \nColorado Course #48482\, Mountain: 9:00 – 1:00\n(This course is not the CO HO Reform required webinar) \nIowa Course #79481\, Central: 10:00 – 2:00 \nYou will receive the link to join the webinar sent to the email on the order before the event. \nAdd to Cart
URL:https://cebydesign.com/event/homeowners-neighbors-and-pets-27/
END:VEVENT
END:VCALENDAR