BEGIN:VCALENDAR
VERSION:2.0
PRODID:-//CE By Design - ECPv6.15.20//NONSGML v1.0//EN
CALSCALE:GREGORIAN
METHOD:PUBLISH
X-ORIGINAL-URL:https://cebydesign.com
X-WR-CALDESC:Events for CE By Design
REFRESH-INTERVAL;VALUE=DURATION:PT1H
X-Robots-Tag:noindex
X-PUBLISHED-TTL:PT1H
BEGIN:VTIMEZONE
TZID:America/New_York
BEGIN:DAYLIGHT
TZOFFSETFROM:-0500
TZOFFSETTO:-0400
TZNAME:EDT
DTSTART:20220313T070000
END:DAYLIGHT
BEGIN:STANDARD
TZOFFSETFROM:-0400
TZOFFSETTO:-0500
TZNAME:EST
DTSTART:20221106T060000
END:STANDARD
BEGIN:DAYLIGHT
TZOFFSETFROM:-0500
TZOFFSETTO:-0400
TZNAME:EDT
DTSTART:20230312T070000
END:DAYLIGHT
BEGIN:STANDARD
TZOFFSETFROM:-0400
TZOFFSETTO:-0500
TZNAME:EST
DTSTART:20231105T060000
END:STANDARD
BEGIN:DAYLIGHT
TZOFFSETFROM:-0500
TZOFFSETTO:-0400
TZNAME:EDT
DTSTART:20240310T070000
END:DAYLIGHT
BEGIN:STANDARD
TZOFFSETFROM:-0400
TZOFFSETTO:-0500
TZNAME:EST
DTSTART:20241103T060000
END:STANDARD
END:VTIMEZONE
BEGIN:VEVENT
DTSTART;TZID=America/New_York:20230818T140000
DTEND;TZID=America/New_York:20230818T150000
DTSTAMP:20260420T184326
CREATED:20230607T124646Z
LAST-MODIFIED:20230607T124646Z
UID:10000117-1692367200-1692370800@cebydesign.com
SUMMARY:Modified Endowments
DESCRIPTION:Fri\, Aug 18\, 2023 8:00am – 1:00pm | US/Mountain\nModified Endowments is CE approved for ONE credit in Colorado\, Life\, A&H and IA General Classroom credits.  Learn about Modified Endowment rules and 1035 Exchanges. \nColorado Course #58479\nMountain:  2:00 – 3:00   Tuition:  $13.00 \nIowa Course #101912\nCentral:  3:00 – 4:00   Tuition:  $14.00\, includes filing fees \nAdd to Cart
URL:https://cebydesign.com/event/modified-endowments-3/
END:VEVENT
BEGIN:VEVENT
DTSTART;TZID=America/New_York:20230821T090000
DTEND;TZID=America/New_York:20230821T130000
DTSTAMP:20260420T184326
CREATED:20230703T160311Z
LAST-MODIFIED:20230703T160311Z
UID:10000134-1692608400-1692622800@cebydesign.com
SUMMARY:Fixed (Equity) Index Annuities
DESCRIPTION:Mon\, Aug 21\, 2023 9:00am – 1:00pm | US/Mountain\nFixed (Equity) Index Annuities is CE approved for FOUR credits\, CO L\, A&H and IA General Classroom CE credits. \nThe course covers both the history of the Index Annuity form and Index Life Insurance. Details of the complex product are covered with many examples to share with prospects and clients. \nColorado Course #41413\nMountain:  9:00 – 1:00 p.m. Tuition: $52.00 \nIowa Course #80787\nCentral:  10:00 – 2:00 p.m. Tuition $56.00 (includes filing fees) \nAdd to Cart
URL:https://cebydesign.com/event/fixed-equity-index-annuities-3/
END:VEVENT
BEGIN:VEVENT
DTSTART;TZID=America/New_York:20230822T090000
DTEND;TZID=America/New_York:20230822T120000
DTSTAMP:20260420T184326
CREATED:20230605T151852Z
LAST-MODIFIED:20230703T162242Z
UID:10000078-1692694800-1692705600@cebydesign.com
SUMMARY:Gen X and Y\, It's Time to Plan
DESCRIPTION:Wed\, Jul 26\, 2023 9:00am – 12:00pm | US/Mountain\nGen X and Y\, It’s Time to Plan (Gen Z is also included)\, and the course is CE approved for Three Life\, A&H\, P&C credits in CO\, and Three General CE credits in Iowa. The course covers working with clients in those generations and inflation challenges moving forward. \nColorado Course #54435:  add to cart\nMountain:  9:00 – 12:00; Tuition: $39.00 \nIowa Course #84999:  add to cart\nCentral:  10:00 – 1:00; Tuition: $42.00\, (includes filing fees) \nAdd to Cart
URL:https://cebydesign.com/event/gen-x-and-y-its-time-to-plan-2/
END:VEVENT
BEGIN:VEVENT
DTSTART;TZID=America/New_York:20230822T130000
DTEND;TZID=America/New_York:20230822T160000
DTSTAMP:20260420T184327
CREATED:20230703T163334Z
LAST-MODIFIED:20230703T163334Z
UID:10000135-1692709200-1692720000@cebydesign.com
SUMMARY:Here Come The Boomers
DESCRIPTION:Tue\, Aug 22\, 2023 1:00pm – 4:00pm | US/Mountain\nHere Come the Boomers is CE approved for THREE credits\, CO L\, A&H\, P&C / IA General credits. This course includes a discussion about the many issues all Boomers have faced and will be dealing with moving forward\, including retirement challenges and inflation. All lines of insurance a covered. \nColorado Course #48483\nMountain: 1:00 – 4:00; CO Tuition: $39.00 \nIowa Course # 79483\nCentral: 2:00 – 5:00; IA Tuition: $42.00 (includes filing fees) \nAdd to Cart
URL:https://cebydesign.com/event/here-come-the-boomers-3/
END:VEVENT
BEGIN:VEVENT
DTSTART;TZID=America/New_York:20230823T090000
DTEND;TZID=America/New_York:20230823T120000
DTSTAMP:20260420T184327
CREATED:20230703T171855Z
LAST-MODIFIED:20230703T171855Z
UID:10000136-1692781200-1692792000@cebydesign.com
SUMMARY:Insuring Small Business
DESCRIPTION:Wed\, Aug 23\, 2023 9:00am – 12:00pm | US/Mountain\nInsuring Small Business is CE approved for THREE credits\, CO L\, A&H\, P&C / IA General CE Classroom credits. The course covers challenges facing small business including Key Person Insurance\, Buy-Sell Agreements\, BOP policies and more. \nColorado Course #51078\nMountain: 9:00 -12:00; CO Tuition: $39.00 \nIowa Course #81743\nCentral: 10:00 – 1:00; IA Tuition: $42.00\, (includes filing fees) \nAdd to Cart
URL:https://cebydesign.com/event/insuring-small-business-3/
END:VEVENT
BEGIN:VEVENT
DTSTART;TZID=America/New_York:20230824T090000
DTEND;TZID=America/New_York:20230824T130000
DTSTAMP:20260420T184327
CREATED:20230605T135051Z
LAST-MODIFIED:20230823T200308Z
UID:10000073-1692867600-1692882000@cebydesign.com
SUMMARY:Dwellings\, Property\, and Toys
DESCRIPTION:Thurs\, Aug 24\, 2023 9:00am – 1:00pm | US/Mountain\nDwellings\, Property\, and Toys is CE approved for Four CE credits. Colorado P&C\, and Iowa General credits. The course covers the Dwelling form\, Property including HO4\, and Toys including motorhomes\, motorcycles\, boats and more. \nColorado Course # 48485: add to cart\nMountain: 9:00 – 1:00; CO Tuition: $52.00 \nIowa Course #81738: add to cart\nCentral: 10:00 – 2:00; IA Tuition: $56.00\, (includes filing fees) \nAdd to Cart
URL:https://cebydesign.com/event/dwellings-property-and-toys/
END:VEVENT
BEGIN:VEVENT
DTSTART;TZID=America/New_York:20230825T080000
DTEND;TZID=America/New_York:20230825T130000
DTSTAMP:20260420T184327
CREATED:20230610T231848Z
LAST-MODIFIED:20230610T231848Z
UID:10000123-1692950400-1692968400@cebydesign.com
SUMMARY:Insure Your Income With Disability Insurance
DESCRIPTION:Fri\, Aug 25\, 2023 8:00am – 1:00pm | US/Mountain\nInsure Your Income With Disability Insurance is CE approved for FIVE CO Life\, A&H credits and IA General CE credits. \nThe course covers Social Security Disability\, applying and qualifications\, including SSDI challenges. Individual and Group Disability Income coverage is also covered. \nColorado Course #49618\nMountain:  8:00 – 1:00; Tuition:  $65.00 \nIowa Course #80609\nCentral:  9:00 – 2:00; Tuition:  $70.00\, (includes filing fees) \nAdd to Cart
URL:https://cebydesign.com/event/insure-your-income-with-disability-insurance-3/
END:VEVENT
BEGIN:VEVENT
DTSTART;TZID=America/New_York:20230828T090000
DTEND;TZID=America/New_York:20230828T120000
DTSTAMP:20260420T184327
CREATED:20230610T232310Z
LAST-MODIFIED:20230610T232310Z
UID:10000125-1693213200-1693224000@cebydesign.com
SUMMARY:What Was Omitted\, E&O
DESCRIPTION:Mon\, Aug 28\, 2023 9:00am – 12:00pm | US/Mountain\nWhat Was Omitted is CE approved for THREE CO Life\, A&H\, P&C credits and IA General CE credits. \nThis course covers Errors and Omissions\, what agents should be aware of\, the history of E&O\, compliance. \nColorado Course #58944\nMountain: 9:00 – 12:00; Tuition:  $39.00 \nIowa Course #102485\nCentral:  10:00 – 1:00; IA Tuition:  $42.00 (includes filing fees) \nAdd to Cart
URL:https://cebydesign.com/event/what-was-omitted-eo-2/
END:VEVENT
END:VCALENDAR