BEGIN:VCALENDAR
VERSION:2.0
PRODID:-//CE By Design - ECPv6.15.20//NONSGML v1.0//EN
CALSCALE:GREGORIAN
METHOD:PUBLISH
X-WR-CALNAME:CE By Design
X-ORIGINAL-URL:https://cebydesign.com
X-WR-CALDESC:Events for CE By Design
REFRESH-INTERVAL;VALUE=DURATION:PT1H
X-Robots-Tag:noindex
X-PUBLISHED-TTL:PT1H
BEGIN:VTIMEZONE
TZID:America/New_York
BEGIN:DAYLIGHT
TZOFFSETFROM:-0500
TZOFFSETTO:-0400
TZNAME:EDT
DTSTART:20220313T070000
END:DAYLIGHT
BEGIN:STANDARD
TZOFFSETFROM:-0400
TZOFFSETTO:-0500
TZNAME:EST
DTSTART:20221106T060000
END:STANDARD
BEGIN:DAYLIGHT
TZOFFSETFROM:-0500
TZOFFSETTO:-0400
TZNAME:EDT
DTSTART:20230312T070000
END:DAYLIGHT
BEGIN:STANDARD
TZOFFSETFROM:-0400
TZOFFSETTO:-0500
TZNAME:EST
DTSTART:20231105T060000
END:STANDARD
BEGIN:DAYLIGHT
TZOFFSETFROM:-0500
TZOFFSETTO:-0400
TZNAME:EDT
DTSTART:20240310T070000
END:DAYLIGHT
BEGIN:STANDARD
TZOFFSETFROM:-0400
TZOFFSETTO:-0500
TZNAME:EST
DTSTART:20241103T060000
END:STANDARD
END:VTIMEZONE
BEGIN:VTIMEZONE
TZID:America/Denver
BEGIN:DAYLIGHT
TZOFFSETFROM:-0700
TZOFFSETTO:-0600
TZNAME:MDT
DTSTART:20220313T090000
END:DAYLIGHT
BEGIN:STANDARD
TZOFFSETFROM:-0600
TZOFFSETTO:-0700
TZNAME:MST
DTSTART:20221106T080000
END:STANDARD
BEGIN:DAYLIGHT
TZOFFSETFROM:-0700
TZOFFSETTO:-0600
TZNAME:MDT
DTSTART:20230312T090000
END:DAYLIGHT
BEGIN:STANDARD
TZOFFSETFROM:-0600
TZOFFSETTO:-0700
TZNAME:MST
DTSTART:20231105T080000
END:STANDARD
BEGIN:DAYLIGHT
TZOFFSETFROM:-0700
TZOFFSETTO:-0600
TZNAME:MDT
DTSTART:20240310T090000
END:DAYLIGHT
BEGIN:STANDARD
TZOFFSETFROM:-0600
TZOFFSETTO:-0700
TZNAME:MST
DTSTART:20241103T080000
END:STANDARD
END:VTIMEZONE
BEGIN:VTIMEZONE
TZID:UTC
BEGIN:STANDARD
TZOFFSETFROM:+0000
TZOFFSETTO:+0000
TZNAME:UTC
DTSTART:20220101T000000
END:STANDARD
END:VTIMEZONE
BEGIN:VEVENT
DTSTART;TZID=America/New_York:20230706T130000
DTEND;TZID=America/New_York:20230706T150000
DTSTAMP:20260420T202420
CREATED:20230604T185455Z
LAST-MODIFIED:20230701T140557Z
UID:10000050-1688648400-1688655600@cebydesign.com
SUMMARY:E-Risk\, Insurance Issues in a Wired World
DESCRIPTION:Thu\, Jul 6\, 2023 1:00pm – 3:00pm | US/Mountain\nInsurance Issues in a Wired World is CE approved for TWO CE credits\, CO P&C and Iowa General Classroom CE Credits. \nThe course focuses on cyber\, computer risks\, and how our companies are focusing on future issues in a virtual wired world. \nColorado Course #43084\nMountain:  1:00 – 3:00 p.m. Tuition:  $26.00 \nIowa Course #80588\nCentral:  2:00 – 4:00 p.m. Tuition:  $28.00 (includes filing fees) \nAdd to Cart
URL:https://cebydesign.com/event/e-risk-insurance-issues-in-a-wired-world-3/
END:VEVENT
BEGIN:VEVENT
DTSTART;TZID=America/Denver:20230707T090000
DTEND;TZID=America/Denver:20230707T130000
DTSTAMP:20260420T202420
CREATED:20230604T190043Z
LAST-MODIFIED:20230604T190327Z
UID:10000051-1688720400-1688734800@cebydesign.com
SUMMARY:Annuity Best Interest
DESCRIPTION:Fri\, Jul 7\, 2023 9:00am – 1:00pm | US/Mountain\nColorado Annuity Best Interest required one-time training is available for any agent selling annuity products. The Best Interest rules are covered and a review of the different types of annuities. \nColorado Course # 64746: add to cart\nMountain: 9:00 – 1:00; CO Tuition: 52.00 \nPending approval in Iowa \nAdd to Cart
URL:https://cebydesign.com/event/annuity-best-interest/
END:VEVENT
BEGIN:VEVENT
DTSTART;TZID=America/New_York:20230710T090000
DTEND;TZID=America/New_York:20230710T120000
DTSTAMP:20260420T202420
CREATED:20230604T191014Z
LAST-MODIFIED:20230604T191243Z
UID:10000052-1688979600-1688990400@cebydesign.com
SUMMARY:Commercial Property Insurance
DESCRIPTION:Mon\, Jul 10\, 2023 9:00am – 12:00pm | US/Mountain\nCommercial Property Insurance is CE approved for Three CE Credits\, Colorado P&C and Iowa General classroom CE.  The course covers commercial property forms for BOP and CPP policies. Return to work vs. tele-commuting plus home-based businesses are discussed. \nColorado Course #51076\nMountain:  9:00 – 12:00; CO Tuition:  $39.00 \nIowa Course #81740\nCentral:  10:00 – 1:00; Tuition: $42.00\, (includes filing fees) \nAdd to Cart
URL:https://cebydesign.com/event/commercial-property-insurance/
END:VEVENT
BEGIN:VEVENT
DTSTART;TZID=America/New_York:20230710T130000
DTEND;TZID=America/New_York:20230710T150000
DTSTAMP:20260420T202420
CREATED:20230604T191649Z
LAST-MODIFIED:20230604T191756Z
UID:10000053-1688994000-1689001200@cebydesign.com
SUMMARY:Workers Compensation Basics
DESCRIPTION:Mon\, Jul 10\, 2023 1:00pm – 3:00pm | US/Mountain\nWorkers Compensation Basics is CE approved for TWO CE credits\, CO P&C and Iowa General Classroom CE Credits. \nThe history of Workers Compensation is presented. How the coverage works for employees and employers. OSHA info is also included. \nColorado Course #58487:  add to cart\nMountain:  1:00 – 3:00 p.m. Tuition:  $26.00 \nIowa Course #101913:  add to cart\nCentral:  2:00 – 4:00 p.m. Tuition:  $28.00 (includes filing fees) \nAdd to Cart
URL:https://cebydesign.com/event/workers-compensation-basicsrld/
END:VEVENT
BEGIN:VEVENT
DTSTART;TZID=America/New_York:20230711T080000
DTEND;TZID=America/New_York:20230711T160000
DTSTAMP:20260420T202420
CREATED:20230604T192235Z
LAST-MODIFIED:20230604T192235Z
UID:10000054-1689062400-1689091200@cebydesign.com
SUMMARY:CO Long Term Care Partnership (LTC09P)
DESCRIPTION:Tue\, Jul 11\, 2023 8:00am – 4:00pm | US/Mountain\nCO LTC Partnership is CE and Clear Cert approved for EIGHT credits\, and is half of the one time 16 hour requirement to sell any LTC product in Colorado. \nPartnership and the original stand-alone LTC products are covered. The legacy plans which include life and annuities with LTC riders are included. The history of the legislative changes and why many happened are covered. Current challenges with LTC products and public perception is included. \nThis course also counts as an elective for agents interested in the subject. \nColorado Course #46368: add to cart\nMountain: 8:00 – 4:00; CO Tuition: $113.00 \nLink to our LTC General Self-Study course through Web-CE\, choose the Self-Study choice \nAdd to Cart
URL:https://cebydesign.com/event/co-long-term-care-partnership-ltc09p-2/
END:VEVENT
BEGIN:VEVENT
DTSTART;TZID=UTC:20230711T090000
DTEND;TZID=UTC:20230711T170000
DTSTAMP:20260420T202420
CREATED:20230604T194536Z
LAST-MODIFIED:20230604T195034Z
UID:10000058-1689066000-1689094800@cebydesign.com
SUMMARY:IA Long Term Care Partnership - 8 credits
DESCRIPTION:Fri\, Jun 9\, 2023 9:00am – 5:00pm | US/Central\nIowa LTC Partnership Insurance training is CE and Clear Cert approved for EIGHT credits\, and required one time to sell any LTC product in Iowa. State and Clear Cert approved. \nPartnership and the original stand-alone LTC products are covered. The legacy plans which include life and annuities with LTC riders are included. The history of the legislative changes and why many happened are covered. Current challenges with LTC products and public perception is included. \nThis course also counts as an elective for agents interested in the subject. \nIowa Course #79047\nCentral: 9:00 – 5:00; IA Tuition: $121.00\, includes filing fees \nAdd to Cart
URL:https://cebydesign.com/event/ia-long-term-care-partnership-8-credits-2/
END:VEVENT
BEGIN:VEVENT
DTSTART;TZID=America/New_York:20230711T110000
DTEND;TZID=America/New_York:20230711T160000
DTSTAMP:20260420T202420
CREATED:20230701T003424Z
LAST-MODIFIED:20230701T140305Z
UID:10000130-1689073200-1689091200@cebydesign.com
SUMMARY:CO Long Term Care Ongoing Training (LTC5HR)
DESCRIPTION:Fri\, July 11\, 2023 11:00am – 4:00pm | US/Mountain\nCO LTC Re-certification is CE approved for FIVE credits\, and is required every two years to continue selling LTC products in Colorado. State\, Clear Cert approved. \nColorado Course #48300: add to cart\nMountain: 11:00 – 4:00; CO Tuition: $85.00 \nAdd to Cart
URL:https://cebydesign.com/event/co-long-term-care-ongoing-training-ltc5hr-2/
END:VEVENT
BEGIN:VEVENT
DTSTART;TZID=UTC:20230711T120000
DTEND;TZID=UTC:20230711T160000
DTSTAMP:20260420T202420
CREATED:20230604T193315Z
LAST-MODIFIED:20230604T193315Z
UID:10000056-1689076800-1689091200@cebydesign.com
SUMMARY:IA Long Term Care - 4
DESCRIPTION:Tue\, Jul 11\, 2023 12:00pm – 4:00pm | US/Central\nIA LTC Re-certification is CE approved for FOUR credits\, and is required tri-annually to continue selling LTCi products in Iowa. \nUpdates about the LTC market\, legislation changes\, Medicare and Medicaid state updates are included. \nThis course also counts as an elective for agents interested in the subject. \nIowa Course #78289\nCentral: 12:00 – 4:00; IA Tuition: $72.00\, includes filing fees \nAdd to Cart
URL:https://cebydesign.com/event/ia-long-term-care-4-2/
END:VEVENT
BEGIN:VEVENT
DTSTART;TZID=America/New_York:20230712T090000
DTEND;TZID=America/New_York:20230712T120000
DTSTAMP:20260420T202420
CREATED:20230604T195710Z
LAST-MODIFIED:20230604T195710Z
UID:10000059-1689152400-1689163200@cebydesign.com
SUMMARY:Social Security\, Then and Now
DESCRIPTION:Wed\, Jul 12\, 2023 9:00am – 12:00pm | US/Mountain \nSocial Security\, Then and Now is CE approved for THREE credits; CO L\, A&H / Iowa General CE Classroom credits. The history of Social Security is covered\, SSA.gov website features are discussed for Retirement\, Survivors\, Disability and SSI benefits… \nColorado Course #54434\nMountain: 9:00 – 12:00; Tuition: $39.00 \nIowa Course #84998\nCentral: 10:00 – 1:00; Tuition: $42.00 (includes filing fees) \nAdd to Cart \n 
URL:https://cebydesign.com/event/social-security-then-and-now-2/
END:VEVENT
BEGIN:VEVENT
DTSTART;TZID=America/New_York:20230712T130000
DTEND;TZID=America/New_York:20230712T160000
DTSTAMP:20260420T202420
CREATED:20230604T200009Z
LAST-MODIFIED:20230604T200009Z
UID:10000060-1689166800-1689177600@cebydesign.com
SUMMARY:Wills and Trusts
DESCRIPTION:Wed\, Jul 12\, 2023 1:00pm – 4:00pm | US/Mountain \nWills and Trusts is CE approved for THREE credits\, CO L\, A&H / IA General CE Classroom credits. This course covers the basics of Wills\, updated rules for both states including probate. A discussion about trusts and when needed is also included and more. \nColorado Course #49616\nMountain: 1:00 – 4:00; CO Tuition: $39.00 \nIowa Course #80589\nCentral: 2:00 – 5:00; IA Tuition: $42.00\, (includes filing fees) \nAdd to Cart
URL:https://cebydesign.com/event/wills-and-trusts-2/
END:VEVENT
BEGIN:VEVENT
DTSTART;TZID=America/Denver:20230713T090000
DTEND;TZID=America/Denver:20230713T130000
DTSTAMP:20260420T202420
CREATED:20230604T200526Z
LAST-MODIFIED:20230604T200526Z
UID:10000061-1689238800-1689253200@cebydesign.com
SUMMARY:Ethical Standards for Professionalism
DESCRIPTION:Thu\, Jul 13\, 2023 9:00am – 12:00pm | US/Mountain\nEthical Standards for Professionalism is CE approved for THREE state required ETHICS credits in Colorado and Iowa \nColorado Course #43080 and 19431\nMountain:  9:00 – 12:00; CO Tuition: $39.00\nWe will be sure you have the correct course number so it will count for your CE. \nIowa Course #76229\nCentral: 10:00 – 1:00; IA Tuition: $42.00\, (includes filing fees) \nAdd to Cart
URL:https://cebydesign.com/event/ethical-standards-for-professionalism-3/
END:VEVENT
END:VCALENDAR