BEGIN:VCALENDAR
VERSION:2.0
PRODID:-//CE By Design - ECPv6.15.20//NONSGML v1.0//EN
CALSCALE:GREGORIAN
METHOD:PUBLISH
X-ORIGINAL-URL:https://cebydesign.com
X-WR-CALDESC:Events for CE By Design
REFRESH-INTERVAL;VALUE=DURATION:PT1H
X-Robots-Tag:noindex
X-PUBLISHED-TTL:PT1H
BEGIN:VTIMEZONE
TZID:America/New_York
BEGIN:DAYLIGHT
TZOFFSETFROM:-0500
TZOFFSETTO:-0400
TZNAME:EDT
DTSTART:20250309T070000
END:DAYLIGHT
BEGIN:STANDARD
TZOFFSETFROM:-0400
TZOFFSETTO:-0500
TZNAME:EST
DTSTART:20251102T060000
END:STANDARD
BEGIN:DAYLIGHT
TZOFFSETFROM:-0500
TZOFFSETTO:-0400
TZNAME:EDT
DTSTART:20260308T070000
END:DAYLIGHT
BEGIN:STANDARD
TZOFFSETFROM:-0400
TZOFFSETTO:-0500
TZNAME:EST
DTSTART:20261101T060000
END:STANDARD
BEGIN:DAYLIGHT
TZOFFSETFROM:-0500
TZOFFSETTO:-0400
TZNAME:EDT
DTSTART:20270314T070000
END:DAYLIGHT
BEGIN:STANDARD
TZOFFSETFROM:-0400
TZOFFSETTO:-0500
TZNAME:EST
DTSTART:20271107T060000
END:STANDARD
END:VTIMEZONE
BEGIN:VEVENT
DTSTART;TZID=America/New_York:20260608T090000
DTEND;TZID=America/New_York:20260608T170000
DTSTAMP:20260422T183807
CREATED:20260406T162846Z
LAST-MODIFIED:20260406T162846Z
UID:10001228-1780909200-1780938000@cebydesign.com
SUMMARY:IA Long Term Care Partnership - 8 credits
DESCRIPTION:Monday\, June 8\, 2026; 9:00am – 5:00pm | US/Central\nIowa LTC Partnership Insurance training is CE and Clear Cert approved for EIGHT credits and required one time to sell any LTC product in Iowa. Changes and legislation updates are included. \nTuition: $14.00 per CE credit\nIowa – $1.50 per CE credit for filing fees added at check out \nIowa Course #79047 – Central: 9:00 – 5:00 \nYou will receive the link to join the webinar sent to the email on the order before the event. \nAdd to Cart
URL:https://cebydesign.com/event/ia-long-term-care-partnership-8-credits-34/
END:VEVENT
BEGIN:VEVENT
DTSTART;TZID=America/New_York:20260608T110000
DTEND;TZID=America/New_York:20260608T160000
DTSTAMP:20260422T183807
CREATED:20260406T163226Z
LAST-MODIFIED:20260406T163226Z
UID:10001229-1780916400-1780934400@cebydesign.com
SUMMARY:CO Long Term Care Ongoing Training (LTC5HR)
DESCRIPTION:Monday\, June 8\, 2026; 11:00am – 4:00pm | US/Mountain\nCO LTC Re-certification is CE approved for FIVE credits and is required every two years to continue selling LTC products in Colorado. Product changes and updates are covered. National proposed changes are included. \nTuition: $14.00 per CE credit \nCourses 48300 and/or 61069\nWe have two course numbers approved for this training and will be sure it counts \nYou will receive the link to join the webinar sent to the email on the order before the event. \nAdd to Cart
URL:https://cebydesign.com/event/co-long-term-care-ongoing-training-ltc5hr-34/
END:VEVENT
BEGIN:VEVENT
DTSTART;TZID=America/New_York:20260608T120000
DTEND;TZID=America/New_York:20260608T160000
DTSTAMP:20260422T183807
CREATED:20260406T163748Z
LAST-MODIFIED:20260406T163748Z
UID:10001230-1780920000-1780934400@cebydesign.com
SUMMARY:IA Long Term Care - 4 Recertify
DESCRIPTION:Monday\, June 8\, 2026; 12:00pm – 4:00pm | US/Central\nIA LTC Re-certification is CE and Clear Cert approved for FOUR credits and is required every three years to continue selling LTCi products in Iowa. Product updates and legislative changes are included. \nThis course will also count as an elective for those interested in the topic. \nIowa Course #78289\nCentral: 12:00 – 4:00; IA Tuition: $58.00\, includes filing fees \nYou will receive the link to join the webinar sent to the email on the order before the event. \nAdd to Cart
URL:https://cebydesign.com/event/ia-long-term-care-4-recertify-33/
END:VEVENT
BEGIN:VEVENT
DTSTART;TZID=America/New_York:20260611T110000
DTEND;TZID=America/New_York:20260611T140000
DTSTAMP:20260422T183807
CREATED:20260422T115845Z
LAST-MODIFIED:20260422T115845Z
UID:10001231-1781175600-1781186400@cebydesign.com
SUMMARY:Ethical Standards for Professionalism
DESCRIPTION:Thursday\, June 11\, 2026; 11:00 – 2:00 p.m. | US/Mountain\nEthical Standards for Professionalism is CE approved for THREE state required ETHICS credits in Colorado and Iowa (classroom credits). The positive side of ethics in our industry is discussed. \nTuition: $14.00 per CE credit\nIowa – $1.50 per CE credit for filing fees added at check out \nColorado Course #43080 and 19431- Mountain:  11:00 – 2:00\nWe have two course numbers for this course so your credits will count.\nIowa Course #76299 – Central:  12:00 – 3:00 \nYou will receive the link to join the webinar sent to the email on the order before the event. \nAdd to Cart
URL:https://cebydesign.com/event/ethical-standards-for-professionalism-34/
END:VEVENT
BEGIN:VEVENT
DTSTART;TZID=America/New_York:20260615T090000
DTEND;TZID=America/New_York:20260615T130000
DTSTAMP:20260422T183807
CREATED:20260422T125424Z
LAST-MODIFIED:20260422T125424Z
UID:10001233-1781514000-1781528400@cebydesign.com
SUMMARY:Fixed (Equity) Index Annuities
DESCRIPTION:Monday\, June 15\, 2026; 9:00 a.m. – 1:00 p.m. | US/Mountain\nFixed (Equity) Index Annuities is CE approved for FOUR credits\, CO L\, A&H and IA General Classroom CE credits. \nThe course covers both the history of the Index Annuity form and Index Life Insurance. Details with key features of the complex product are covered with many examples to share with prospects and clients. \nTuition: $14.00 per CE credit\nIowa – $1.50 per CE credit for filing fees added at check out \nColorado Course #41413 – Mountain:  9:00 – 1:00\nIowa Course #80787 – Central:  10:00 – 2:00 \nYou will receive the link to join the webinar sent to the email on the order before the event. \nAdd to Cart
URL:https://cebydesign.com/event/fixed-equity-index-annuities-29/
END:VEVENT
BEGIN:VEVENT
DTSTART;TZID=America/New_York:20260617T110000
DTEND;TZID=America/New_York:20260617T140000
DTSTAMP:20260422T183807
CREATED:20260422T124550Z
LAST-MODIFIED:20260422T124550Z
UID:10001232-1781694000-1781704800@cebydesign.com
SUMMARY:CO Homeowners Insurance Reform (HB13-1225)
DESCRIPTION:Wednesday\, June 17\, 2026; 11:00 – 2:00 p.m. | US/Mountain\nThis course curriculum covers the new legislation requiring insurers to change for format of HO insurance by Jan 1\, 2015\, and meets the 3 CE credit requirement for any Colorado producer selling Homeowners insurance\, based on HB13-1225. We cover Google maps of current files\, clearing and mitigating property\, grant funds available\, CSU and the Forest Service partnership for citizens. Fair Plan Colorado info and Fortified Roofing is also included. \nTuition: $14.00 per CE credit \nColorado Course #53455 and 58972 – Mountain: 11:00 – 2:00\nWe will be sure you have the correct course number so the course will count. \nYou will receive the link to join the webinar sent to the email on the order before the event. \nAdd to Cart
URL:https://cebydesign.com/event/co-homeowners-insurance-reform-hb13-1225-32/
END:VEVENT
END:VCALENDAR