BEGIN:VCALENDAR
VERSION:2.0
PRODID:-//CE By Design - ECPv6.15.20//NONSGML v1.0//EN
CALSCALE:GREGORIAN
METHOD:PUBLISH
X-WR-CALNAME:CE By Design
X-ORIGINAL-URL:https://cebydesign.com
X-WR-CALDESC:Events for CE By Design
REFRESH-INTERVAL;VALUE=DURATION:PT1H
X-Robots-Tag:noindex
X-PUBLISHED-TTL:PT1H
BEGIN:VTIMEZONE
TZID:America/New_York
BEGIN:DAYLIGHT
TZOFFSETFROM:-0500
TZOFFSETTO:-0400
TZNAME:EDT
DTSTART:20250309T070000
END:DAYLIGHT
BEGIN:STANDARD
TZOFFSETFROM:-0400
TZOFFSETTO:-0500
TZNAME:EST
DTSTART:20251102T060000
END:STANDARD
BEGIN:DAYLIGHT
TZOFFSETFROM:-0500
TZOFFSETTO:-0400
TZNAME:EDT
DTSTART:20260308T070000
END:DAYLIGHT
BEGIN:STANDARD
TZOFFSETFROM:-0400
TZOFFSETTO:-0500
TZNAME:EST
DTSTART:20261101T060000
END:STANDARD
BEGIN:DAYLIGHT
TZOFFSETFROM:-0500
TZOFFSETTO:-0400
TZNAME:EDT
DTSTART:20270314T070000
END:DAYLIGHT
BEGIN:STANDARD
TZOFFSETFROM:-0400
TZOFFSETTO:-0500
TZNAME:EST
DTSTART:20271107T060000
END:STANDARD
END:VTIMEZONE
BEGIN:VEVENT
DTSTART;TZID=America/New_York:20260429T090000
DTEND;TZID=America/New_York:20260429T120000
DTSTAMP:20260422T122857
CREATED:20260213T232209Z
LAST-MODIFIED:20260213T232312Z
UID:10001189-1777453200-1777464000@cebydesign.com
SUMMARY:Tie It All Together
DESCRIPTION:Wednesday\, April 29\, 2026; 9:00 a.m. – 12:00 p.m. | US/Mountain\nTie It All Together is CE approved for Three credits\, Colorado Life\, Health\, P&C; and Iowa General credits. \nCross-selling and Up-selling discussed for all lines of insurance products. Client development discussed by providing clients and prospects with a comprehensive insurance portfolio focused on their risks needs. These processes increase client loyalty and retention as your book of business is developed. Learn how implement a plan of action with goals that help with cost savings for clients. \nTuition: $14.00 per CE credit\nIowa – $1.50 per CE credit for filing fees added at check out \nColorado Course #58941 – Mountain:  9:00 – 12:00\nIowa Course #102486 – Central:  10:00 – 1:00 \nYou will receive the link to join the webinar sent to the email on the order three days before the event. \nAdd to Cart
URL:https://cebydesign.com/event/tie-it-all-together-11/
END:VEVENT
END:VCALENDAR