BEGIN:VCALENDAR
VERSION:2.0
PRODID:-//CE By Design - ECPv6.15.20//NONSGML v1.0//EN
CALSCALE:GREGORIAN
METHOD:PUBLISH
X-WR-CALNAME:CE By Design
X-ORIGINAL-URL:https://cebydesign.com
X-WR-CALDESC:Events for CE By Design
REFRESH-INTERVAL;VALUE=DURATION:PT1H
X-Robots-Tag:noindex
X-PUBLISHED-TTL:PT1H
BEGIN:VTIMEZONE
TZID:America/New_York
BEGIN:DAYLIGHT
TZOFFSETFROM:-0500
TZOFFSETTO:-0400
TZNAME:EDT
DTSTART:20250309T070000
END:DAYLIGHT
BEGIN:STANDARD
TZOFFSETFROM:-0400
TZOFFSETTO:-0500
TZNAME:EST
DTSTART:20251102T060000
END:STANDARD
BEGIN:DAYLIGHT
TZOFFSETFROM:-0500
TZOFFSETTO:-0400
TZNAME:EDT
DTSTART:20260308T070000
END:DAYLIGHT
BEGIN:STANDARD
TZOFFSETFROM:-0400
TZOFFSETTO:-0500
TZNAME:EST
DTSTART:20261101T060000
END:STANDARD
BEGIN:DAYLIGHT
TZOFFSETFROM:-0500
TZOFFSETTO:-0400
TZNAME:EDT
DTSTART:20270314T070000
END:DAYLIGHT
BEGIN:STANDARD
TZOFFSETFROM:-0400
TZOFFSETTO:-0500
TZNAME:EST
DTSTART:20271107T060000
END:STANDARD
END:VTIMEZONE
BEGIN:VEVENT
DTSTART;TZID=America/New_York:20260428T090000
DTEND;TZID=America/New_York:20260428T110000
DTSTAMP:20260422T122115
CREATED:20260303T125434Z
LAST-MODIFIED:20260303T125434Z
UID:10001196-1777366800-1777374000@cebydesign.com
SUMMARY:Avoiding Financial Landmines
DESCRIPTION:Tuesday\, April 28\, 2026; 9:00 – 11:00 am MT | US/Mountain\nAvoiding Financial Landmines is CE approved for TWO credits\, CO L\, A&H / IA General credits. This class covers financial landmines that we all face from inflation to retirement and solutions…Interesting facts are included. \nTuition: $14.00 per CE credit\nIowa – $1.50 per CE credit for filing fees added at check out \nColorado Course #49617\, Mountain: 9:00 – 11:00\nIowa Course #80132\, Central:  10:00 – 12:00 \nYou will receive the link to join the webinar sent to the email on the order three days before the event. \nAdd to Cart
URL:https://cebydesign.com/event/avoiding-financial-landmines-21/
END:VEVENT
BEGIN:VEVENT
DTSTART;TZID=America/New_York:20260428T120000
DTEND;TZID=America/New_York:20260428T140000
DTSTAMP:20260422T122115
CREATED:20260422T131148Z
LAST-MODIFIED:20260422T132848Z
UID:10001234-1777377600-1777384800@cebydesign.com
SUMMARY:Umbrellas Cover When It Rains
DESCRIPTION:Tuesday\, April 28\, 2026; 12:00 – 2:00 pm | US/Mountain\nUmbrellas Cover When It Rains is CE approved for Two P&C Credits in Colorado and General Credits in Iowa. The course focuses on personal umbrellas\, when to recommend which limits\, and the policy itself. Business umbrellas are also included. \nTuition: $14.00 per CE credit\nIowa – $1.50 per CE credit for filing fees added at check out \nColorado Course #48486 – Mountain: 12:00 – 2:00 pm\nIowa Course #79480 – Central:  1:00 – 3:00 pm \nYou will receive the link to join the webinar sent to the email on the order before the event. \nAdd to Cart
URL:https://cebydesign.com/event/umbrellas-cover-when-it-rains-22/
END:VEVENT
END:VCALENDAR