BEGIN:VCALENDAR
VERSION:2.0
PRODID:-//CE By Design - ECPv6.15.20//NONSGML v1.0//EN
CALSCALE:GREGORIAN
METHOD:PUBLISH
X-ORIGINAL-URL:https://cebydesign.com
X-WR-CALDESC:Events for CE By Design
REFRESH-INTERVAL;VALUE=DURATION:PT1H
X-Robots-Tag:noindex
X-PUBLISHED-TTL:PT1H
BEGIN:VTIMEZONE
TZID:America/Denver
BEGIN:DAYLIGHT
TZOFFSETFROM:-0700
TZOFFSETTO:-0600
TZNAME:MDT
DTSTART:20250309T090000
END:DAYLIGHT
BEGIN:STANDARD
TZOFFSETFROM:-0600
TZOFFSETTO:-0700
TZNAME:MST
DTSTART:20251102T080000
END:STANDARD
BEGIN:DAYLIGHT
TZOFFSETFROM:-0700
TZOFFSETTO:-0600
TZNAME:MDT
DTSTART:20260308T090000
END:DAYLIGHT
BEGIN:STANDARD
TZOFFSETFROM:-0600
TZOFFSETTO:-0700
TZNAME:MST
DTSTART:20261101T080000
END:STANDARD
BEGIN:DAYLIGHT
TZOFFSETFROM:-0700
TZOFFSETTO:-0600
TZNAME:MDT
DTSTART:20270314T090000
END:DAYLIGHT
BEGIN:STANDARD
TZOFFSETFROM:-0600
TZOFFSETTO:-0700
TZNAME:MST
DTSTART:20271107T080000
END:STANDARD
END:VTIMEZONE
BEGIN:VEVENT
DTSTART;TZID=America/Denver:20260407T090000
DTEND;TZID=America/Denver:20260407T130000
DTSTAMP:20260422T122253
CREATED:20260201T185431Z
LAST-MODIFIED:20260201T185431Z
UID:10001180-1775552400-1775566800@cebydesign.com
SUMMARY:Annuity Best Interest
DESCRIPTION:Tuesday\, April 7\, 2026; 9:00 a.m. – 1:00 p.m. | US/Mountain\nColorado and Iowa have officially adopted the NAIC revised Suitability in Annuity Transactions Model Regulation and Best Interest training standard required one time for all agents selling any annuity product. The requirement includes a 4-Hour Annuity Suitability and Best Interest Standards. Fixed\, Index\, Variable\, and Annuities with LTC are also reviewed during this live webinar. \nTuition: $14.00 per CE credit\nIowa – $1.50 per CE credit for filing fees added at check out \nColorado Course # 64746\, Mountain: 9:00 – 1:00\nIowa Course # 110124\, Central: 10:00 – 2:00 \nYou will receive the link to join the webinar sent to the email on the order three days before the event. \nAdd to Cart
URL:https://cebydesign.com/event/annuity-best-interest-19/
END:VEVENT
END:VCALENDAR