BEGIN:VCALENDAR
VERSION:2.0
PRODID:-//CE By Design - ECPv6.15.20//NONSGML v1.0//EN
CALSCALE:GREGORIAN
METHOD:PUBLISH
X-ORIGINAL-URL:https://cebydesign.com
X-WR-CALDESC:Events for CE By Design
REFRESH-INTERVAL;VALUE=DURATION:PT1H
X-Robots-Tag:noindex
X-PUBLISHED-TTL:PT1H
BEGIN:VTIMEZONE
TZID:America/New_York
BEGIN:DAYLIGHT
TZOFFSETFROM:-0500
TZOFFSETTO:-0400
TZNAME:EDT
DTSTART:20250309T070000
END:DAYLIGHT
BEGIN:STANDARD
TZOFFSETFROM:-0400
TZOFFSETTO:-0500
TZNAME:EST
DTSTART:20251102T060000
END:STANDARD
BEGIN:DAYLIGHT
TZOFFSETFROM:-0500
TZOFFSETTO:-0400
TZNAME:EDT
DTSTART:20260308T070000
END:DAYLIGHT
BEGIN:STANDARD
TZOFFSETFROM:-0400
TZOFFSETTO:-0500
TZNAME:EST
DTSTART:20261101T060000
END:STANDARD
BEGIN:DAYLIGHT
TZOFFSETFROM:-0500
TZOFFSETTO:-0400
TZNAME:EDT
DTSTART:20270314T070000
END:DAYLIGHT
BEGIN:STANDARD
TZOFFSETFROM:-0400
TZOFFSETTO:-0500
TZNAME:EST
DTSTART:20271107T060000
END:STANDARD
END:VTIMEZONE
BEGIN:VEVENT
DTSTART;TZID=America/New_York:20260406T090000
DTEND;TZID=America/New_York:20260406T120000
DTSTAMP:20260422T122259
CREATED:20260201T184838Z
LAST-MODIFIED:20260201T184838Z
UID:10001179-1775466000-1775476800@cebydesign.com
SUMMARY:Commercial Property Insurance
DESCRIPTION:Monday\, April 6\, 2026; 9:00 – 12:00 p.m. | US/Mountain\nCommercial Property Insurance is CE approved for Three CE Credits\, Colorado P&C and Iowa General classroom CE.  The course covers commercial property forms for BOP and CPP policies. Return to work vs. tele-commuting plus home-based businesses are discussed. \nTuition: $14.00 per CE credit\nIowa – $1.50 per CE credit for filing fees added at check out \nColorado Course #51076\, Mountain:  9:00 – 12:00\nIowa Course #81740\, Central:  10:00 – 1:00 \nYou will receive the link to join the webinar sent to the email on the order three days before the event. \nAdd to Cart \n 
URL:https://cebydesign.com/event/commercial-property-insurance-23/
END:VEVENT
END:VCALENDAR