BEGIN:VCALENDAR
VERSION:2.0
PRODID:-//CE By Design - ECPv6.15.20//NONSGML v1.0//EN
CALSCALE:GREGORIAN
METHOD:PUBLISH
X-ORIGINAL-URL:https://cebydesign.com
X-WR-CALDESC:Events for CE By Design
REFRESH-INTERVAL;VALUE=DURATION:PT1H
X-Robots-Tag:noindex
X-PUBLISHED-TTL:PT1H
BEGIN:VTIMEZONE
TZID:America/New_York
BEGIN:DAYLIGHT
TZOFFSETFROM:-0500
TZOFFSETTO:-0400
TZNAME:EDT
DTSTART:20250309T070000
END:DAYLIGHT
BEGIN:STANDARD
TZOFFSETFROM:-0400
TZOFFSETTO:-0500
TZNAME:EST
DTSTART:20251102T060000
END:STANDARD
BEGIN:DAYLIGHT
TZOFFSETFROM:-0500
TZOFFSETTO:-0400
TZNAME:EDT
DTSTART:20260308T070000
END:DAYLIGHT
BEGIN:STANDARD
TZOFFSETFROM:-0400
TZOFFSETTO:-0500
TZNAME:EST
DTSTART:20261101T060000
END:STANDARD
BEGIN:DAYLIGHT
TZOFFSETFROM:-0500
TZOFFSETTO:-0400
TZNAME:EDT
DTSTART:20270314T070000
END:DAYLIGHT
BEGIN:STANDARD
TZOFFSETFROM:-0400
TZOFFSETTO:-0500
TZNAME:EST
DTSTART:20271107T060000
END:STANDARD
END:VTIMEZONE
BEGIN:VEVENT
DTSTART;TZID=America/New_York:20260213T090000
DTEND;TZID=America/New_York:20260213T140000
DTSTAMP:20260423T014523
CREATED:20251227T191206Z
LAST-MODIFIED:20251227T191206Z
UID:10001132-1770973200-1770991200@cebydesign.com
SUMMARY:Insurance for Life
DESCRIPTION:Friday\, February 13\, 2026; 9:00 a.m. – 2:00 p.m. | US/Mountain\nInsurance for Life is CE approved for FIVE credits: CO L\, A&H / IA General Classroom credits. This course covers all types of life policies\, both individual and group. We cover the history of products\, people who lost family members without life insurance\, Key Person coverage\, Buy Sell Agreements\, the Life Happens Foundation\, videos and more. \nTuition: $14.00 per CE credit\nIowa – $1.50 per CE credit for filing fees added at check out \nColorado Course #49619 – Mountain:  9:00 – 2:00\nIowa Course #80586 – Central:  10:00 – 3:00 \nYou will receive the link to join the webinar sent to the email on the order three days before the event. \nAdd to Cart
URL:https://cebydesign.com/event/insurance-for-life-30/
END:VEVENT
BEGIN:VEVENT
DTSTART;TZID=America/New_York:20260213T150000
DTEND;TZID=America/New_York:20260213T160000
DTSTAMP:20260423T014523
CREATED:20251227T192447Z
LAST-MODIFIED:20251227T192447Z
UID:10001133-1770994800-1770998400@cebydesign.com
SUMMARY:Modified Endowments
DESCRIPTION:Friday\, February 13\, 2026; 3:00pm – 4:00pm | US/Mountain\nModified Endowments is CE approved for ONE credit in Colorado\, Life\, A&H and IA General Classroom credits.  Learn about Modified Endowment history and rules plus 1035 Exchanges. \nTuition: $14.00 per CE credit\nIowa – $1.50 per CE credit for filing fees added at check out \nColorado Course #58479 – Mountain:  3:00 – 4:00\nIowa Course #101912 – Central:  4:00 – 5:00 \nYou will receive the link to join the webinar sent to the email on the order three days before the event. \nAdd to Cart
URL:https://cebydesign.com/event/modified-endowments-21/
END:VEVENT
END:VCALENDAR