BEGIN:VCALENDAR
VERSION:2.0
PRODID:-//CE By Design - ECPv6.15.20//NONSGML v1.0//EN
CALSCALE:GREGORIAN
METHOD:PUBLISH
X-ORIGINAL-URL:https://cebydesign.com
X-WR-CALDESC:Events for CE By Design
REFRESH-INTERVAL;VALUE=DURATION:PT1H
X-Robots-Tag:noindex
X-PUBLISHED-TTL:PT1H
BEGIN:VTIMEZONE
TZID:America/New_York
BEGIN:DAYLIGHT
TZOFFSETFROM:-0500
TZOFFSETTO:-0400
TZNAME:EDT
DTSTART:20250309T070000
END:DAYLIGHT
BEGIN:STANDARD
TZOFFSETFROM:-0400
TZOFFSETTO:-0500
TZNAME:EST
DTSTART:20251102T060000
END:STANDARD
BEGIN:DAYLIGHT
TZOFFSETFROM:-0500
TZOFFSETTO:-0400
TZNAME:EDT
DTSTART:20260308T070000
END:DAYLIGHT
BEGIN:STANDARD
TZOFFSETFROM:-0400
TZOFFSETTO:-0500
TZNAME:EST
DTSTART:20261101T060000
END:STANDARD
BEGIN:DAYLIGHT
TZOFFSETFROM:-0500
TZOFFSETTO:-0400
TZNAME:EDT
DTSTART:20270314T070000
END:DAYLIGHT
BEGIN:STANDARD
TZOFFSETFROM:-0400
TZOFFSETTO:-0500
TZNAME:EST
DTSTART:20271107T060000
END:STANDARD
END:VTIMEZONE
BEGIN:VEVENT
DTSTART;TZID=America/New_York:20260212T090000
DTEND;TZID=America/New_York:20260212T120000
DTSTAMP:20260423T014516
CREATED:20251218T150233Z
LAST-MODIFIED:20251226T200849Z
UID:10001122-1770886800-1770897600@cebydesign.com
SUMMARY:Ethical Standards for Professionalism
DESCRIPTION:Thursday\, February 12\, 2026; 9:00 – 12:00 p.m. | US/Mountain\nEthical Standards for Professionalism is CE approved for THREE state required ETHICS credits in Colorado and Iowa (classroom credits). The positive side of ethics in our industry is discussed. \nTuition: $14.00 per CE credit\nIowa – $1.50 per CE credit for filing fees added at check out \nColorado Course #43080 and 19431- Mountain:  9:00 – 12:00\nWe have two course numbers for this course so your credits will count.\nIowa Course #76299 – Central:  10:00 – 1:00 \nYou will receive the link to join the webinar sent to the email on the order three days before the event. \nAdd to Cart
URL:https://cebydesign.com/event/ethical-standards-for-professionalism-30/
END:VEVENT
END:VCALENDAR