BEGIN:VCALENDAR
VERSION:2.0
PRODID:-//CE By Design - ECPv6.15.20//NONSGML v1.0//EN
CALSCALE:GREGORIAN
METHOD:PUBLISH
X-ORIGINAL-URL:https://cebydesign.com
X-WR-CALDESC:Events for CE By Design
REFRESH-INTERVAL;VALUE=DURATION:PT1H
X-Robots-Tag:noindex
X-PUBLISHED-TTL:PT1H
BEGIN:VTIMEZONE
TZID:America/New_York
BEGIN:DAYLIGHT
TZOFFSETFROM:-0500
TZOFFSETTO:-0400
TZNAME:EDT
DTSTART:20250309T070000
END:DAYLIGHT
BEGIN:STANDARD
TZOFFSETFROM:-0400
TZOFFSETTO:-0500
TZNAME:EST
DTSTART:20251102T060000
END:STANDARD
BEGIN:DAYLIGHT
TZOFFSETFROM:-0500
TZOFFSETTO:-0400
TZNAME:EDT
DTSTART:20260308T070000
END:DAYLIGHT
BEGIN:STANDARD
TZOFFSETFROM:-0400
TZOFFSETTO:-0500
TZNAME:EST
DTSTART:20261101T060000
END:STANDARD
BEGIN:DAYLIGHT
TZOFFSETFROM:-0500
TZOFFSETTO:-0400
TZNAME:EDT
DTSTART:20270314T070000
END:DAYLIGHT
BEGIN:STANDARD
TZOFFSETFROM:-0400
TZOFFSETTO:-0500
TZNAME:EST
DTSTART:20271107T060000
END:STANDARD
END:VTIMEZONE
BEGIN:VEVENT
DTSTART;TZID=America/New_York:20260210T090000
DTEND;TZID=America/New_York:20260210T120000
DTSTAMP:20260423T032447
CREATED:20251227T183318Z
LAST-MODIFIED:20251227T183318Z
UID:10001130-1770714000-1770724800@cebydesign.com
SUMMARY:Till Divorce Do We Part
DESCRIPTION:Tuesday\, February 10\, 2026; 9:00 a.m. – 12:00 p.m. | US/Mountain\nTill Divorce Do We Part (I do\, I don’t) is CE approved for THREE Colorado Life\, A&H\, P&C credits and Iowa General Classroom Credits. \nIt’s more than just not liking the other person. What happens to families\, kids\, spending habits\, budgets… The effect on men and how women often react. Change careers\, different homes\, or vehicles\, disruption for kids and other family members. What about pets… What about the division of retirement plan/s\, life insurance beneficiaries\, annuities\, and more. Don’t forget P&C changes. including division of vehicles and toys and insuring who is in each household. Ways we can help and support our clients. \nTuition: $14.00 per CE credit\nIowa – $1.50 per CE credit for filing fees added at check out \nColorado Course #58478 – Mountain:  9:00 a.m. – 12:00 p.m.\nIowa Course# 101882 – Central:  10:00 a.m. – 1:00 p.m. \nYou will receive the link to join the webinar sent to the email on the order three days before the event. \nAdd to Cart
URL:https://cebydesign.com/event/till-divorce-do-we-part-18/
END:VEVENT
END:VCALENDAR