BEGIN:VCALENDAR
VERSION:2.0
PRODID:-//CE By Design - ECPv6.15.20//NONSGML v1.0//EN
CALSCALE:GREGORIAN
METHOD:PUBLISH
X-WR-CALNAME:CE By Design
X-ORIGINAL-URL:https://cebydesign.com
X-WR-CALDESC:Events for CE By Design
REFRESH-INTERVAL;VALUE=DURATION:PT1H
X-Robots-Tag:noindex
X-PUBLISHED-TTL:PT1H
BEGIN:VTIMEZONE
TZID:America/New_York
BEGIN:DAYLIGHT
TZOFFSETFROM:-0500
TZOFFSETTO:-0400
TZNAME:EDT
DTSTART:20220313T070000
END:DAYLIGHT
BEGIN:STANDARD
TZOFFSETFROM:-0400
TZOFFSETTO:-0500
TZNAME:EST
DTSTART:20221106T060000
END:STANDARD
BEGIN:DAYLIGHT
TZOFFSETFROM:-0500
TZOFFSETTO:-0400
TZNAME:EDT
DTSTART:20230312T070000
END:DAYLIGHT
BEGIN:STANDARD
TZOFFSETFROM:-0400
TZOFFSETTO:-0500
TZNAME:EST
DTSTART:20231105T060000
END:STANDARD
BEGIN:DAYLIGHT
TZOFFSETFROM:-0500
TZOFFSETTO:-0400
TZNAME:EDT
DTSTART:20240310T070000
END:DAYLIGHT
BEGIN:STANDARD
TZOFFSETFROM:-0400
TZOFFSETTO:-0500
TZNAME:EST
DTSTART:20241103T060000
END:STANDARD
END:VTIMEZONE
BEGIN:VEVENT
DTSTART;TZID=America/New_York:20231201T090000
DTEND;TZID=America/New_York:20231201T120000
DTSTAMP:20260420T135501
CREATED:20231008T150343Z
LAST-MODIFIED:20231008T150343Z
UID:10000282-1701421200-1701432000@cebydesign.com
SUMMARY:Are We Really Safe (ID Theft)
DESCRIPTION:Friday\, December 1\, 2023 9:00am – 12:00pm | US/Mountain\nWhat Was Omitted is CE approved for THREE CO Life\, A&H\, P&C credits and IA General CE credits. \nThis course covers Errors and Omissions\, what agents should be aware of\, the history of E&O\, compliance. Directors and Officers Liability is included and the Claims Made Form the policies are written on. \nColorado Course #58944\nMountain: 9:00 – 12:00; Tuition:  $39.00 \nIowa Course #102485\nCentral:  10:00 – 1:00; IA Tuition:  $42.00 (includes filing fees) \nAdd to Cart
URL:https://cebydesign.com/event/are-we-really-safe-id-theft-2/
END:VEVENT
END:VCALENDAR