BEGIN:VCALENDAR
VERSION:2.0
PRODID:-//CE By Design - ECPv6.15.20//NONSGML v1.0//EN
CALSCALE:GREGORIAN
METHOD:PUBLISH
X-WR-CALNAME:CE By Design
X-ORIGINAL-URL:https://cebydesign.com
X-WR-CALDESC:Events for CE By Design
REFRESH-INTERVAL;VALUE=DURATION:PT1H
X-Robots-Tag:noindex
X-PUBLISHED-TTL:PT1H
BEGIN:VTIMEZONE
TZID:America/New_York
BEGIN:DAYLIGHT
TZOFFSETFROM:-0500
TZOFFSETTO:-0400
TZNAME:EDT
DTSTART:20220313T070000
END:DAYLIGHT
BEGIN:STANDARD
TZOFFSETFROM:-0400
TZOFFSETTO:-0500
TZNAME:EST
DTSTART:20221106T060000
END:STANDARD
BEGIN:DAYLIGHT
TZOFFSETFROM:-0500
TZOFFSETTO:-0400
TZNAME:EDT
DTSTART:20230312T070000
END:DAYLIGHT
BEGIN:STANDARD
TZOFFSETFROM:-0400
TZOFFSETTO:-0500
TZNAME:EST
DTSTART:20231105T060000
END:STANDARD
BEGIN:DAYLIGHT
TZOFFSETFROM:-0500
TZOFFSETTO:-0400
TZNAME:EDT
DTSTART:20240310T070000
END:DAYLIGHT
BEGIN:STANDARD
TZOFFSETFROM:-0400
TZOFFSETTO:-0500
TZNAME:EST
DTSTART:20241103T060000
END:STANDARD
END:VTIMEZONE
BEGIN:VEVENT
DTSTART;TZID=America/New_York:20231130T090000
DTEND;TZID=America/New_York:20231130T120000
DTSTAMP:20260420T135502
CREATED:20230905T173923Z
LAST-MODIFIED:20231005T132011Z
UID:10000266-1701334800-1701345600@cebydesign.com
SUMMARY:Social Security\, Then and Now
DESCRIPTION:Thursday\, Nov 30\, 2023\, 9:00am – 12:00pm | US/Mountain\nSocial Security\, Then and Now is CE approved for THREE credits\, CO L\, A&H / Iowa General CE Classroom credits. The history of Social Security is covered\, SSA.gov website features are discussed for Retirement\, Survivors\, Disability and SSI benefits… Future plans to change Social Security are covered. \nColorado Course #54434\nMountain: 9:00 – 12:00; Tuition: $39.00 \nIowa Course #84998\nCentral: 10:00 – 1:00; Tuition: $42.00 (includes filing fees) \nAdd to Cart
URL:https://cebydesign.com/event/social-security-then-and-now-3/
END:VEVENT
END:VCALENDAR