BEGIN:VCALENDAR
VERSION:2.0
PRODID:-//CE By Design - ECPv6.15.20//NONSGML v1.0//EN
CALSCALE:GREGORIAN
METHOD:PUBLISH
X-ORIGINAL-URL:https://cebydesign.com
X-WR-CALDESC:Events for CE By Design
REFRESH-INTERVAL;VALUE=DURATION:PT1H
X-Robots-Tag:noindex
X-PUBLISHED-TTL:PT1H
BEGIN:VTIMEZONE
TZID:America/New_York
BEGIN:DAYLIGHT
TZOFFSETFROM:-0500
TZOFFSETTO:-0400
TZNAME:EDT
DTSTART:20220313T070000
END:DAYLIGHT
BEGIN:STANDARD
TZOFFSETFROM:-0400
TZOFFSETTO:-0500
TZNAME:EST
DTSTART:20221106T060000
END:STANDARD
BEGIN:DAYLIGHT
TZOFFSETFROM:-0500
TZOFFSETTO:-0400
TZNAME:EDT
DTSTART:20230312T070000
END:DAYLIGHT
BEGIN:STANDARD
TZOFFSETFROM:-0400
TZOFFSETTO:-0500
TZNAME:EST
DTSTART:20231105T060000
END:STANDARD
BEGIN:DAYLIGHT
TZOFFSETFROM:-0500
TZOFFSETTO:-0400
TZNAME:EDT
DTSTART:20240310T070000
END:DAYLIGHT
BEGIN:STANDARD
TZOFFSETFROM:-0400
TZOFFSETTO:-0500
TZNAME:EST
DTSTART:20241103T060000
END:STANDARD
END:VTIMEZONE
BEGIN:VEVENT
DTSTART;TZID=America/New_York:20231116T080000
DTEND;TZID=America/New_York:20231116T130000
DTSTAMP:20260420T153928
CREATED:20230904T153358Z
LAST-MODIFIED:20230905T141721Z
UID:10000256-1700121600-1700139600@cebydesign.com
SUMMARY:Insure Your Income With Disability Insurance
DESCRIPTION:Thursday\, Nov. 16\, 2023\, 8:00am – 1:00pm | US/Mountain\nThe course covers Social Security Disability\, applying and qualifications for all ages\, including SSDI challenges. Individual and Group Disability Income plans\, Key Person\, and Buy-Sell agreements are included. Lots of links you retain. \nColorado Course #49618\nMountain:  8:00 – 1:00; Tuition:  $65.00 \nIowa Course #80609\nCentral:  9:00 – 2:00; Tuition:  $70.00\, (includes filing fees) \nAdd to Cart
URL:https://cebydesign.com/event/insure-your-income-with-disability-insurance-4/
END:VEVENT
END:VCALENDAR