BEGIN:VCALENDAR
VERSION:2.0
PRODID:-//CE By Design - ECPv6.15.20//NONSGML v1.0//EN
CALSCALE:GREGORIAN
METHOD:PUBLISH
X-ORIGINAL-URL:https://cebydesign.com
X-WR-CALDESC:Events for CE By Design
REFRESH-INTERVAL;VALUE=DURATION:PT1H
X-Robots-Tag:noindex
X-PUBLISHED-TTL:PT1H
BEGIN:VTIMEZONE
TZID:America/New_York
BEGIN:DAYLIGHT
TZOFFSETFROM:-0500
TZOFFSETTO:-0400
TZNAME:EDT
DTSTART:20220313T070000
END:DAYLIGHT
BEGIN:STANDARD
TZOFFSETFROM:-0400
TZOFFSETTO:-0500
TZNAME:EST
DTSTART:20221106T060000
END:STANDARD
BEGIN:DAYLIGHT
TZOFFSETFROM:-0500
TZOFFSETTO:-0400
TZNAME:EDT
DTSTART:20230312T070000
END:DAYLIGHT
BEGIN:STANDARD
TZOFFSETFROM:-0400
TZOFFSETTO:-0500
TZNAME:EST
DTSTART:20231105T060000
END:STANDARD
BEGIN:DAYLIGHT
TZOFFSETFROM:-0500
TZOFFSETTO:-0400
TZNAME:EDT
DTSTART:20240310T070000
END:DAYLIGHT
BEGIN:STANDARD
TZOFFSETFROM:-0400
TZOFFSETTO:-0500
TZNAME:EST
DTSTART:20241103T060000
END:STANDARD
END:VTIMEZONE
BEGIN:VEVENT
DTSTART;TZID=America/New_York:20231113T080000
DTEND;TZID=America/New_York:20231113T160000
DTSTAMP:20260420T153927
CREATED:20230831T201441Z
LAST-MODIFIED:20231013T123409Z
UID:10000228-1699862400-1699891200@cebydesign.com
SUMMARY:CO Long Term Care Partnership (LTC09P)
DESCRIPTION:Monday\, Nov 13\, 2023\, 8:00am – 4:00pm | US/Mountain\nCO LTC Partnership is CE and Clear Cert approved for EIGHT credits and is half of the one-time 16-hour CE requirement to sell any LTC product in Colorado.  Changes with the products\, market challenges\, and legislation updates are included with links to retain for future reference. \nColorado Course #46368\nMountain: 8:00 – 4:00; CO Tuition: $113.00 \nAdd to Cart
URL:https://cebydesign.com/event/co-long-term-care-partnership-ltc09p-3/
END:VEVENT
BEGIN:VEVENT
DTSTART;TZID=America/New_York:20231113T090000
DTEND;TZID=America/New_York:20231113T170000
DTSTAMP:20260420T153927
CREATED:20231008T141520Z
LAST-MODIFIED:20231008T141520Z
UID:10000275-1699866000-1699894800@cebydesign.com
SUMMARY:IA Long Term Care Partnership - 8 credits
DESCRIPTION:Monday\, Nov 13\, 9:00am – 5:00pm | US/Central\nIowa LTC Partnership Insurance training is CE and Clear Cert approved for EIGHT credits and required one time to sell any LTC product in Iowa. Changes and legislation updates are included. \nIowa Course #79047\nCentral: 9:00 – 5:00; IA Tuition: $121.00\, includes filing fees \nAdd to Cart
URL:https://cebydesign.com/event/ia-long-term-care-partnership-8-credits-6/
END:VEVENT
BEGIN:VEVENT
DTSTART;TZID=America/New_York:20231113T110000
DTEND;TZID=America/New_York:20231113T160000
DTSTAMP:20260420T153927
CREATED:20230831T202321Z
LAST-MODIFIED:20230831T202321Z
UID:10000230-1699873200-1699891200@cebydesign.com
SUMMARY:CO Long Term Care Ongoing Training (LTC5HR)
DESCRIPTION:Monday\, Nov 13\, 2023 11:00am – 4:00pm | US/Mountain\nCO LTC Re-certification is CE approved for FIVE credits and is required every two years to continue selling LTC products in Colorado. Product changes and updates are covered. National proposed changes are included. \nWe have two course numbers approved for this training and will be sure it counts\, Courses 48300 and/or 61069. \nColorado Course #48300 and/or 61069\nMountain: 11:00 – 4:00; CO Tuition: $85.00 \nAdd to Cart
URL:https://cebydesign.com/event/co-long-term-care-ongoing-training-ltc5hr-3/
END:VEVENT
BEGIN:VEVENT
DTSTART;TZID=America/New_York:20231113T120000
DTEND;TZID=America/New_York:20231113T160000
DTSTAMP:20260420T153927
CREATED:20230831T202810Z
LAST-MODIFIED:20230831T202810Z
UID:10000231-1699876800-1699891200@cebydesign.com
SUMMARY:IA Long Term Care - 4 Recertify
DESCRIPTION:Monday\, Nov 13\, 2023\, 12:00pm – 4:00pm | US/Central\nIA LTC Re-certification is CE approved for FOUR credits and is required every three years to continue selling LTCi products in Iowa. Product updates and legislative changes are included. \nThis course will also count as an elective for those interested in the topic. \nIowa Course #78289\nCentral: 12:00 – 4:00; IA Tuition: $72.00\, includes filing fees \nAdd to Cart
URL:https://cebydesign.com/event/ia-long-term-care-4-recertify-3/
END:VEVENT
END:VCALENDAR