BEGIN:VCALENDAR
VERSION:2.0
PRODID:-//CE By Design - ECPv6.15.20//NONSGML v1.0//EN
CALSCALE:GREGORIAN
METHOD:PUBLISH
X-ORIGINAL-URL:https://cebydesign.com
X-WR-CALDESC:Events for CE By Design
REFRESH-INTERVAL;VALUE=DURATION:PT1H
X-Robots-Tag:noindex
X-PUBLISHED-TTL:PT1H
BEGIN:VTIMEZONE
TZID:America/New_York
BEGIN:DAYLIGHT
TZOFFSETFROM:-0500
TZOFFSETTO:-0400
TZNAME:EDT
DTSTART:20220313T070000
END:DAYLIGHT
BEGIN:STANDARD
TZOFFSETFROM:-0400
TZOFFSETTO:-0500
TZNAME:EST
DTSTART:20221106T060000
END:STANDARD
BEGIN:DAYLIGHT
TZOFFSETFROM:-0500
TZOFFSETTO:-0400
TZNAME:EDT
DTSTART:20230312T070000
END:DAYLIGHT
BEGIN:STANDARD
TZOFFSETFROM:-0400
TZOFFSETTO:-0500
TZNAME:EST
DTSTART:20231105T060000
END:STANDARD
BEGIN:DAYLIGHT
TZOFFSETFROM:-0500
TZOFFSETTO:-0400
TZNAME:EDT
DTSTART:20240310T070000
END:DAYLIGHT
BEGIN:STANDARD
TZOFFSETFROM:-0400
TZOFFSETTO:-0500
TZNAME:EST
DTSTART:20241103T060000
END:STANDARD
END:VTIMEZONE
BEGIN:VEVENT
DTSTART;TZID=America/New_York:20231110T090000
DTEND;TZID=America/New_York:20231110T120000
DTSTAMP:20260420T153925
CREATED:20230903T194211Z
LAST-MODIFIED:20230903T194211Z
UID:10000245-1699606800-1699617600@cebydesign.com
SUMMARY:Clients With Disabled Loved Ones
DESCRIPTION:Friday\, Nov 10\, 2023\, 9:00am – 12:00pm | US/Mountain\nClients With Disabled Loved Ones is CE approved for THREE credits\, CO L\, A&H / Iowa General CE Classroom credits. The course covers requirements for disabled special needs loved ones and setting up planning\, so they retain their federal benefits. Trust planning is covered. This is a market underserved and you’ll take away the requirements and ideas needed to work in this market. \nColorado Course #58548\nMountain: 9:00 – 12:00; Tuition: $39.00 \nIowa Course #101993\nCentral: 10:00 – 1:00; Tuition: $42.00 (includes filing fees) \nAdd to Cart
URL:https://cebydesign.com/event/clients-with-disabled-loved-ones-2/
END:VEVENT
END:VCALENDAR