BEGIN:VCALENDAR
VERSION:2.0
PRODID:-//CE By Design - ECPv6.15.20//NONSGML v1.0//EN
CALSCALE:GREGORIAN
METHOD:PUBLISH
X-ORIGINAL-URL:https://cebydesign.com
X-WR-CALDESC:Events for CE By Design
REFRESH-INTERVAL;VALUE=DURATION:PT1H
X-Robots-Tag:noindex
X-PUBLISHED-TTL:PT1H
BEGIN:VTIMEZONE
TZID:America/New_York
BEGIN:DAYLIGHT
TZOFFSETFROM:-0500
TZOFFSETTO:-0400
TZNAME:EDT
DTSTART:20220313T070000
END:DAYLIGHT
BEGIN:STANDARD
TZOFFSETFROM:-0400
TZOFFSETTO:-0500
TZNAME:EST
DTSTART:20221106T060000
END:STANDARD
BEGIN:DAYLIGHT
TZOFFSETFROM:-0500
TZOFFSETTO:-0400
TZNAME:EDT
DTSTART:20230312T070000
END:DAYLIGHT
BEGIN:STANDARD
TZOFFSETFROM:-0400
TZOFFSETTO:-0500
TZNAME:EST
DTSTART:20231105T060000
END:STANDARD
BEGIN:DAYLIGHT
TZOFFSETFROM:-0500
TZOFFSETTO:-0400
TZNAME:EDT
DTSTART:20240310T070000
END:DAYLIGHT
BEGIN:STANDARD
TZOFFSETFROM:-0400
TZOFFSETTO:-0500
TZNAME:EST
DTSTART:20241103T060000
END:STANDARD
END:VTIMEZONE
BEGIN:VEVENT
DTSTART;TZID=America/New_York:20231108T090000
DTEND;TZID=America/New_York:20231108T120000
DTSTAMP:20260420T153804
CREATED:20230903T180719Z
LAST-MODIFIED:20230903T180731Z
UID:10000240-1699434000-1699444800@cebydesign.com
SUMMARY:CO Homeowners Insurance Reform (HB13-1225)
DESCRIPTION:Wednesday\, Nov 8\, 2023\, 9:00am – 12:00pm | US/Mountain\nThis course curriculum covers the new legislation requiring insurers to change for format of HO insurance by Jan 1\, 2015\, and meets the 3 CE credit requirement for any Colorado producer selling Homeowners insurance\, based on HB13-1225. We cover clearing and mitigating property\, grant funds available\, CSU and the Forest Service partnership for citizens. Current status of fires and supporting links you retain. \nColorado Course #53455 and 58972\nMountain: 9:00 – 12:00; CO Tuition: $39.00\nWe will be sure you have the correct course number so it will count for your CE. \nAdd to Cart
URL:https://cebydesign.com/event/co-homeowners-insurance-reform-hb13-1225-2/
END:VEVENT
BEGIN:VEVENT
DTSTART;TZID=America/New_York:20231108T130000
DTEND;TZID=America/New_York:20231108T160000
DTSTAMP:20260420T153804
CREATED:20230903T185121Z
LAST-MODIFIED:20230903T185121Z
UID:10000241-1699448400-1699459200@cebydesign.com
SUMMARY:Required Minimum Distributions
DESCRIPTION:Wednesday\, Nov 8\, 2023\, 1:00pm – 4:00pm | US/Mountain\nThis course is CE approved for Three Life\, A&H credits in CO\, and General CE credits in Iowa. The content includes RMD rules\, tables for contributions\, IRS guidelines with new extensions included and the Secure Act changes. \nColorado Course #54436\nMountain:  1:00 – 4:00; Tuition: $39.00 \nIowa Course #84997\nCentral:  2:00 – 5:00; Tuition: $42.00\, (includes filing fees) \nAdd to Cart
URL:https://cebydesign.com/event/required-minimum-distributions-3/
END:VEVENT
END:VCALENDAR