BEGIN:VCALENDAR
VERSION:2.0
PRODID:-//CE By Design - ECPv6.15.20//NONSGML v1.0//EN
CALSCALE:GREGORIAN
METHOD:PUBLISH
X-WR-CALNAME:CE By Design
X-ORIGINAL-URL:https://cebydesign.com
X-WR-CALDESC:Events for CE By Design
REFRESH-INTERVAL;VALUE=DURATION:PT1H
X-Robots-Tag:noindex
X-PUBLISHED-TTL:PT1H
BEGIN:VTIMEZONE
TZID:America/New_York
BEGIN:DAYLIGHT
TZOFFSETFROM:-0500
TZOFFSETTO:-0400
TZNAME:EDT
DTSTART:20220313T070000
END:DAYLIGHT
BEGIN:STANDARD
TZOFFSETFROM:-0400
TZOFFSETTO:-0500
TZNAME:EST
DTSTART:20221106T060000
END:STANDARD
BEGIN:DAYLIGHT
TZOFFSETFROM:-0500
TZOFFSETTO:-0400
TZNAME:EDT
DTSTART:20230312T070000
END:DAYLIGHT
BEGIN:STANDARD
TZOFFSETFROM:-0400
TZOFFSETTO:-0500
TZNAME:EST
DTSTART:20231105T060000
END:STANDARD
BEGIN:DAYLIGHT
TZOFFSETFROM:-0500
TZOFFSETTO:-0400
TZNAME:EDT
DTSTART:20240310T070000
END:DAYLIGHT
BEGIN:STANDARD
TZOFFSETFROM:-0400
TZOFFSETTO:-0500
TZNAME:EST
DTSTART:20241103T060000
END:STANDARD
END:VTIMEZONE
BEGIN:VEVENT
DTSTART;TZID=America/New_York:20231103T080000
DTEND;TZID=America/New_York:20231103T130000
DTSTAMP:20260420T153542
CREATED:20230829T194253Z
LAST-MODIFIED:20230903T173107Z
UID:10000199-1698998400-1699016400@cebydesign.com
SUMMARY:Insurance for Life
DESCRIPTION:Friday\, Nov 3\, 2023\, 8:00am – 1:00pm | US/Mountain\nInsurance for Life is CE approved for FIVE crediInsurance for Life – CE By Design \nMountain: 8:00 – 1:00; CO Tuition: $65.00 \nIowa Course #80586\nCentral: 9:00 – 2:00; IA Tuition: $70.00\, (includes filing fees) \nAdd to Cart
URL:https://cebydesign.com/event/insurance-for-life/
END:VEVENT
BEGIN:VEVENT
DTSTART;TZID=America/New_York:20231103T140000
DTEND;TZID=America/New_York:20231103T150000
DTSTAMP:20260420T153542
CREATED:20230903T174553Z
LAST-MODIFIED:20230905T135922Z
UID:10000237-1699020000-1699023600@cebydesign.com
SUMMARY:Modified Endowments
DESCRIPTION:Friday\, Nov 3\, 2023 2:00pm – 3:00pm | US/Mountain\nModified Endowments is CE approved for ONE credit in Colorado\, Life\, A&H and IA General Classroom credits.  Learn about Modified Endowment history and rules plus 1035 Exchanges. \nColorado Course #58479\nMountain:  2:00 – 3:00   Tuition:  $13.00 \nIowa Course #101912\nCentral:  3:00 – 4:00   Tuition:  $14.00\, includes filing fees \nAdd to Cart
URL:https://cebydesign.com/event/modified-endowments-2/
END:VEVENT
END:VCALENDAR