BEGIN:VCALENDAR
VERSION:2.0
PRODID:-//CE By Design - ECPv6.15.20//NONSGML v1.0//EN
CALSCALE:GREGORIAN
METHOD:PUBLISH
X-WR-CALNAME:CE By Design
X-ORIGINAL-URL:https://cebydesign.com
X-WR-CALDESC:Events for CE By Design
REFRESH-INTERVAL;VALUE=DURATION:PT1H
X-Robots-Tag:noindex
X-PUBLISHED-TTL:PT1H
BEGIN:VTIMEZONE
TZID:Asia/Krasnoyarsk
BEGIN:STANDARD
TZOFFSETFROM:+0700
TZOFFSETTO:+0700
TZNAME:+07
DTSTART:20220101T000000
END:STANDARD
END:VTIMEZONE
BEGIN:VEVENT
DTSTART;TZID=Asia/Krasnoyarsk:20230627T090000
DTEND;TZID=Asia/Krasnoyarsk:20230627T120000
DTSTAMP:20260420T215624
CREATED:20230531T202940Z
LAST-MODIFIED:20230531T202940Z
UID:10000018-1687856400-1687867200@cebydesign.com
SUMMARY:Flood Insurance and Reform (NFIP)
DESCRIPTION:Tue\, Jun 27\, 2023 9:00am – 12:00pm | US/Mountain\nFlood Insurance & Reform is CE approved for THREE credits\, CO P&C / IA General CE credits. This course meets the guidelines provided by NFIP and is required one time to sell flood insurance. Updates to the NFIP program\, premium changes\, expiration date of the program\, and legislative changes are included. \nColorado Course #45203\nMountain: 9:00 – 12:00; CO Tuition: $39.00 \nIowa Course #80786\nCentral: 10:00 -1:00; IA Tuition: $42.00 (includes filing fees) \nAdd to Cart
URL:https://cebydesign.com/event/flood-insurance-and-reform-nfip/
END:VEVENT
END:VCALENDAR