BEGIN:VCALENDAR
VERSION:2.0
PRODID:-//CE By Design - ECPv6.15.20//NONSGML v1.0//EN
CALSCALE:GREGORIAN
METHOD:PUBLISH
X-ORIGINAL-URL:https://cebydesign.com
X-WR-CALDESC:Events for CE By Design
REFRESH-INTERVAL;VALUE=DURATION:PT1H
X-Robots-Tag:noindex
X-PUBLISHED-TTL:PT1H
BEGIN:VTIMEZONE
TZID:America/New_York
BEGIN:DAYLIGHT
TZOFFSETFROM:-0500
TZOFFSETTO:-0400
TZNAME:EDT
DTSTART:20220313T070000
END:DAYLIGHT
BEGIN:STANDARD
TZOFFSETFROM:-0400
TZOFFSETTO:-0500
TZNAME:EST
DTSTART:20221106T060000
END:STANDARD
BEGIN:DAYLIGHT
TZOFFSETFROM:-0500
TZOFFSETTO:-0400
TZNAME:EDT
DTSTART:20230312T070000
END:DAYLIGHT
BEGIN:STANDARD
TZOFFSETFROM:-0400
TZOFFSETTO:-0500
TZNAME:EST
DTSTART:20231105T060000
END:STANDARD
BEGIN:DAYLIGHT
TZOFFSETFROM:-0500
TZOFFSETTO:-0400
TZNAME:EDT
DTSTART:20240310T070000
END:DAYLIGHT
BEGIN:STANDARD
TZOFFSETFROM:-0400
TZOFFSETTO:-0500
TZNAME:EST
DTSTART:20241103T060000
END:STANDARD
END:VTIMEZONE
BEGIN:VEVENT
DTSTART;TZID=America/New_York:20230623T090000
DTEND;TZID=America/New_York:20230623T120000
DTSTAMP:20260420T233908
CREATED:20230601T125614Z
LAST-MODIFIED:20230601T125614Z
UID:10000025-1687510800-1687521600@cebydesign.com
SUMMARY:Insuring Small Business
DESCRIPTION:Fri\, Jun 23\, 2023 9:00am – 12:00pm | US/Mountain\nInsuring Small Business is CE approved for THREE credits\, CO L\, A&H\, P&C / IA General CE Classroom credits. The course covers challenges facing small business including Key Person Insurance\, Buy-Sell Agreements\, BOP policies and P&C. The presentation includes employees\, how inflation and supply chain challenges are affecting small business and more. \nColorado Course #51078\nMountain: 9:00 -12:00; CO Tuition: $39.00 \nIowa Course #81743\nCentral: 10:00 – 1:00; IA Tuition: $42.00\, (includes filing fees) \nAdd to Cart
URL:https://cebydesign.com/event/insuring-small-business-2/
END:VEVENT
END:VCALENDAR