BEGIN:VCALENDAR
VERSION:2.0
PRODID:-//CE By Design - ECPv6.15.20//NONSGML v1.0//EN
CALSCALE:GREGORIAN
METHOD:PUBLISH
X-ORIGINAL-URL:https://cebydesign.com
X-WR-CALDESC:Events for CE By Design
REFRESH-INTERVAL;VALUE=DURATION:PT1H
X-Robots-Tag:noindex
X-PUBLISHED-TTL:PT1H
BEGIN:VTIMEZONE
TZID:America/New_York
BEGIN:DAYLIGHT
TZOFFSETFROM:-0500
TZOFFSETTO:-0400
TZNAME:EDT
DTSTART:20220313T070000
END:DAYLIGHT
BEGIN:STANDARD
TZOFFSETFROM:-0400
TZOFFSETTO:-0500
TZNAME:EST
DTSTART:20221106T060000
END:STANDARD
BEGIN:DAYLIGHT
TZOFFSETFROM:-0500
TZOFFSETTO:-0400
TZNAME:EDT
DTSTART:20230312T070000
END:DAYLIGHT
BEGIN:STANDARD
TZOFFSETFROM:-0400
TZOFFSETTO:-0500
TZNAME:EST
DTSTART:20231105T060000
END:STANDARD
BEGIN:DAYLIGHT
TZOFFSETFROM:-0500
TZOFFSETTO:-0400
TZNAME:EDT
DTSTART:20240310T070000
END:DAYLIGHT
BEGIN:STANDARD
TZOFFSETFROM:-0400
TZOFFSETTO:-0500
TZNAME:EST
DTSTART:20241103T060000
END:STANDARD
END:VTIMEZONE
BEGIN:VEVENT
DTSTART;TZID=America/New_York:20230622T080000
DTEND;TZID=America/New_York:20230622T120000
DTSTAMP:20260420T233824
CREATED:20230605T185525Z
LAST-MODIFIED:20230605T185525Z
UID:10000087-1687420800-1687435200@cebydesign.com
SUMMARY:Colorado Annuity Best Interest
DESCRIPTION:Mon\, Jun 22\, 2023 8:00am – 12:00pm | US/Mountain\nAnnuity Best Interest required one-time training is available for any agent selling annuity products. The Best Interest rules are covered and a review of the different types of annuities. \nColorado Course # 64746\nMountain: 8:00 – 12:00; CO Tuition: 52.00 \nPending approval in Iowa \nAdd to Cart
URL:https://cebydesign.com/event/colorado-annuity-best-interest/
END:VEVENT
BEGIN:VEVENT
DTSTART;TZID=America/New_York:20230622T130000
DTEND;TZID=America/New_York:20230622T160000
DTSTAMP:20260420T233824
CREATED:20230616T160340Z
LAST-MODIFIED:20230616T180905Z
UID:10000127-1687438800-1687449600@cebydesign.com
SUMMARY:Required Minimum Distributions
DESCRIPTION:Thu\, Jun 22\, 2023 1:00-4:00pm | US/Mountain\nThis course is CE approved for Three Life\, A&H credits in CO\, and General CE credits in Iowa. The content includes the changing RMD rules\, the Secure Act 1.0 and Secure 2.0. IRS guidelines are covered for pensions and catch up contributions. Ideas using life insurance and annuities as part of retirement are also covered. \nColorado Course #54436\nMountain:  1:00 – 4:00; Tuition: $39.00 \nIowa Course #84997\nCentral:  2:00 – 5:00; Tuition: $42.00\, (includes filing fees) \nAdd to Cart
URL:https://cebydesign.com/event/required-minimum-distributions-4/
END:VEVENT
END:VCALENDAR